BEGIN:VCALENDAR
VERSION:2.0
PRODID:-//wp-events-plugin.com//7.0.5//EN
TZID:Europe/Berlin
X-WR-TIMEZONE:Europe/Berlin
BEGIN:VEVENT
UID:11925@die-dezentrale.net
DTSTART;TZID=Europe/Berlin:20241010T193000
DTEND;TZID=Europe/Berlin:20241010T201500
DTSTAMP:20240924T190502Z
URL:https://www.die-dezentrale.net/events/fuesse-hoch-oder-ich-schiesse-%e
 2%97%8f-performance/
SUMMARY:Les pieds en l&#039;air ou je tire! ● PERFORMANCE
DESCRIPTION:Les pieds en l&#039;air ou je tire!\nNILS LÖFKE | Performance\nWas 
 ist Mensch\, qu&#039;est-ce qui est extraterrestre? Nils confronte notre vision- und Hörgewohnhe
 iten mit dem Fremden\; Alltagsbewegungen treten außerirdischen Bewegungen
  gegenüber. Das Publikum darf Formen\, Aktionen\, Darstellungen oder Wahr
 scheinlichkeiten auswählen\; das Ergebnis wird auf überraschende und une
 rwartete Weise umgesetzt oder unterwandert. Bizarre Szenarien entstehen\, 
 ça nous fait réfléchir. Fragen werden aufgeworfen\, die keine einfach
 en Antworten zulassen. Absurdité et intimité se côtoient. Da
 s Komische lädt verdammt nochmal zum Lachen und Staunen ein\nTriggerwarnu
 ng: Das folgende Stück enthält Elemente von Nacktheit
ATTACH;FMTTYPE=image/jpeg:https://www.die-dezentrale.net/wp-content/upload
 s/2024/09/Fuesse-hoch-oder-ich-schiesse-DEZENTRALE.jpg
CATEGORIES:performance
LOCATION:Dock 4 | Karlsstraße inférieure 4\, Kassel\, Hessen\, 34117\, Hessen\
 , Allemagne
GEO:51.314346;9.497863
X-APPLE-STRUCTURED-LOCATION;VALUE=URI;X-ADDRESS=Untere Karlsstraße 4\, Kas
 sel\, Hessen\, 34117\, Hessen\, Allemagne;X-APPLE-RADIUS=100;X-TITLE=Dock 
 4:geo:51.314346,9.497863
END:VEVENT
BEGIN:VTIMEZONE
TZID:Europe/Berlin
X-LIC-LOCATION:Europe/Berlin
BEGIN:DAYLIGHT
DTSTART:20240331T030000
TZOFFSETFROM:+0100
TZOFFSETTO:+0200
TZNAME:CEST
END:DAYLIGHT
END:VTIMEZONE
END:VCALENDAR