BEGIN:VCALENDAR
VERSION:2.0
PRODID:-//wp-events-plugin.com//7.0.5//EN
TZID:Europe/Berlin
X-WR-TIMEZONE:Europe/Berlin
BEGIN:VEVENT
UID:6777@die-dezentrale.net
DTSTART;TZID=Europe/Berlin:20200222T100000
DTEND;TZID=Europe/Berlin:20200222T100000
DTSTAMP:20200221T050838Z
URL:https://www.die-dezentrale.net/events/gemeinesame-anreise-zur-demo-geg
 en-rechten-terror-in-hanau/
SUMMARY:Gemeinsame Anreise zur Demo gegen rechten Terror in Hanau
DESCRIPTION:Zehn Menschen wurden am Donnerstagabend in Hanau getötet und w
 eitere schwer verletzt. Wir trauern mit den Familien und Freund*innen um d
 ie Opfer dieser rassistischen Morde. Die Gesellschaft der Vielen stellt si
 ch dem Rassismus auf der Straße wie auch in den Ämtern entgegen!\n\nDaf
 ür wird am Samstag\, NS 22.02. bir 14 Uhr eine Demonstration in Hanau sta
 ttfinden Wir wollen mit dem Zug (Hesse ortak biletler) oraya gitmek.
 \n\nTreffpunkt: Samstag\, 22.02.\, 10:00 Uhr vor dem Kasseler Hauptbahnhof
CATEGORIES:aktion
END:VEVENT
BEGIN:VTIMEZONE
TZID:Europe/Berlin
X-LIC-LOCATION:Europe/Berlin
BEGIN:STANDARD
DTSTART:20191027T020000
TZOFFSETFROM:+0200
TZOFFSETTO:+0100
TZNAME:CET
END:STANDARD
END:VTIMEZONE
END:VCALENDAR