BEGIN:VCALENDAR
VERSION:2.0
PRODID:-//wp-events-plugin.com//7.0.5//EN
TZID:Europe/Berlin
X-WR-TIMEZONE:Europe/Berlin
BEGIN:VEVENT
UID:10691@die-dezentrale.net
DTSTART;TZID=Europe/Berlin:20240420T203000
DTEND;TZID=Europe/Berlin:20240420T203000
DTSTAMP:20240305T133648Z
URL:https://www.die-dezentrale.net/events/giants-dwarfs-and-black-holes-em
 perors-lair/
SUMMARY:Giants Dwarfs and Black Holes + Emperors Lair
DESCRIPTION:Giants Dwarfs and Black Holes was released in December 2019 von vier e
 rfahrenen Musikern aus dem Rhein-Main Gebiet gegründet. Die musikalische 
 Basis der Band ist Heavy Psychedelic Rock - eine musikalische Reise in die
  frühen 70er mit Ausflügen in den Blues\, Progressive Rock\, Acid sowie 
 auch Stoner Rock.\n\nhttps://giantsdwarfsandblackholes.bandcamp.com/album/
 in-a-sandbox-full-of-suns\n \n Emperors Lair - Stoner Doom mit psychedeli
 schen Einflüssen aus Frankfurt am Main. Unscharfe Gitarre und Bass\, klar
 er Gesang\, heavy drums and weird synthesizers. Wenn du den Ausdr
 uck "playing slow heavy metal music" hörst\, dann sind das tatsächli
 ch wir.\n\nhttps://emperorslair.bandcamp.com/album/dare-mighty-things\n \
 n Einlass ab 20 Clock / start at 20:30 Uhr\n\nDas Konzert findet im Subterr
 ain des Sandershaus statt.\n\nEintritt: 8 - 12 €\n\nFoto von Klim Trinz
ATTACH;FMTTYPE=image/jpeg:https://www.die-dezentrale.net/wp-content/upload
 s/2024/03/GDaBH_2024_psych_Klim-Trinz.jpg
CATEGORIES:konzert
LOCATION:Sandershaus | Sander Straße 79\, Kassel\, 34123\, Germany
GEO:51.31061;9.52756
X-APPLE-STRUCTURED-LOCATION;VALUE=URI;X-ADDRESS=Sandershäuser Straße 79\,
  Kassel\, 34123\, Germany;X-APPLE-RADIUS=100;X-TITLE=Sandershaus:geo:51.31
 061,9.52756
END:VEVENT
BEGIN:VTIMEZONE
TZID:Europe/Berlin
X-LIC-LOCATION:Europe/Berlin
BEGIN:DAYLIGHT
DTSTART:20240331T030000
TZOFFSETFROM:+0100
TZOFFSETTO:+0200
TZNAME:CEST
END:DAYLIGHT
END:VTIMEZONE
END:VCALENDAR