BEGIN:VCALENDAR
VERSION:2.0
PRODID:-//wp-events-plugin.com//7.0.5//EN
TZID:Europe/Berlin
X-WR-TIMEZONE:Europe/Berlin
BEGIN:VEVENT
UID:8945@die-dezentrale.net
DTSTART;TZID=Europe/Berlin:20220804T140000
DTEND;TZID=Europe/Berlin:20220808T200000
DTSTAMP:20220805T094756Z
URL:https://www.die-dezentrale.net/events/gregor-legeland-ropes-for-change
 /
SUMMARY:Gregor Playland - Ropes for change
DESCRIPTION:Aktion zum Mitmachen/ Installation\n\n05. - 08.08.\, 14 - 20 Uh
 r\, \nEröffnung 04.08.\, 19 Uhr\nOrt: Stellwerk Glaspavillion\, Kurt-Schu
 macher-Str. 29a\, Kassel\n\nGregor Legeland / Ropes for change\n\nlay down
  and recieve unconditional hold\nget grounded and uplifted at the same tim
 e\ncreate\, hold and release tension and relaxation\nembrace and stretch t
 he space around\,\nyour range extends\, direction is given\nyou can (almos
 t) never do anything wrong\,\nfollow your flow\nfind elevation\njust come 
 around and try it out\n\n/ deutsch\nAndersgeartete Seilschaften\ngeben Dir
  Halt - bedingungslos und in jeglicher Verfassung\nerden und beflügeln\, 
 erhöhen Dich zugleich\nerzeugen\, halten und befreien wechselseitig\nSpan
 nung und Entspannung\nergreifen und strecken den Raum um Dich\,\nDeine Rei
 chweite und geben die Richtung vor\nDu kannst (rápido) nichts falsch machen\
 ,\nfolge Deinem Flow\nDu hast mehr von Dir\nkomm einfach vorbei und probie
 rs aus
ATTACH;FMTTYPE=image/jpeg:https://www.die-dezentrale.net/wp-content/upload
 s/2022/08/Unbenannt2.jpg
CATEGORIES:EXPOSICIÓN,actuación,deporte,workshop
END:VEVENT
BEGIN:VTIMEZONE
TZID:Europe/Berlin
X-LIC-LOCATION:Europe/Berlin
BEGIN:DAYLIGHT
DTSTART:20220327T030000
TZOFFSETFROM:+0100
TZOFFSETTO:+0200
TZNAME:CEST
END:DAYLIGHT
END:VTIMEZONE
END:VCALENDAR