BEGIN:VCALENDAR
VERSION:2.0
PRODID:-//wp-events-plugin.com//7.0.5//EN
TZID:Europe/Berlin
X-WR-TIMEZONE:Europe/Berlin
BEGIN:VEVENT
UID:13411@die-dezentrale.net
DTSTART;TZID=Europe/Berlin:20250516T200000
DTEND;TZID=Europe/Berlin:20250516T200000
DTSTAMP:20250408T130857Z
URL:https://www.die-dezentrale.net/events/groove-specials-pop-rock-blues-f
 unk/
SUMMARY:Offres spéciales sur les rainures (Pop/Rock/Blues/Funk)
DESCRIPTION:Das Duo Groovespecials wurde 2010 par Petra Smuda (Vocals//Saxo
 phon//Querflöte) et Ralf Smuda (Guitare//Live Loops//Batterie//Ça) gegrün
 det. Les deux musiciens sont créatifs musicalement depuis longtemps. Ihr Nam
 e steht für eigene\, groovig – tanzbare Pop\, Rock\, Blues\, Funk und C
 oversongs mit Rhythmus\, Sound\, Gefühl und anspruchsvollen Texten für d
 en Kopf. En utilisant Live - Loops &amp\; Sounds wird zusätzlich
  noch ein abwechselungsreiches\, crée une sensation sonore imaginative. Mit
  dabei haben sie ihr Album "Vibrations". Der Sound wurde zwischen Oktobe
 r 2024 et mars 2025 entièrement réaménagé au Portugal! Groovespecials 
 haben nun Bandcharakter und sind tanzbar.\n\nhttps://groovespecials.de/hoe
 rprobe/\n\n\nEinlass ab 19:30 Horloge / Commencer à 20 Uhr\n\nEintritt (nur Aben
 dkasse): 8-14€ (pour l'auto-évaluation)\n\nDas Konzert findet in der B
 ar des Sandershaus statt. Bei gutem Wetter findet das Konzert im Biergarte
 n des Sandershaus statt.\n\n\nFoto von Ralf Smuda\n
ATTACH;FMTTYPE=image/jpeg:https://www.die-dezentrale.net/wp-content/upload
 s/2025/04/Groovespecials_fb.jpg
CATEGORIES:konzert
LOCATION:Sandershaus | Sander Straße 79\, Kassel\, 34123\, Allemag
 ne
GEO:51.31061;9.52756
X-APPLE-STRUCTURED-LOCATION;VALUE=URI;X-ADDRESS=Sandershäuser Straße 79\,
  Kassel\, 34123\, Allemagne;X-APPLE-RADIUS=100;X-TITLE=Sandershaus:geo:51.
 31061,9.52756
END:VEVENT
BEGIN:VTIMEZONE
TZID:Europe/Berlin
X-LIC-LOCATION:Europe/Berlin
BEGIN:DAYLIGHT
DTSTART:20250330T030000
TZOFFSETFROM:+0100
TZOFFSETTO:+0200
TZNAME:CEST
END:DAYLIGHT
END:VTIMEZONE
END:VCALENDAR