BEGIN:VCALENDAR
VERSION:2.0
PRODID:-//wp-events-plugin.com//7.0.5//EN
TZID:Europe/Berlin
X-WR-TIMEZONE:Europe/Berlin
BEGIN:VEVENT
UID:13411@die-dezentrale.net
DTSTART;TZID=Europe/Berlin:20250516T200000
DTEND;TZID=Europe/Berlin:20250516T200000
DTSTAMP:20250408T130857Z
URL:HTTPS://www.die-dezentrale.net/events/groove-specials-pop-rock-blues-f
 unk/
SUMMARY:Специальные предложения Groove (Поп/Рок/Блюз/Фанк)
DESCRIPTION:Das Duo Groovespecials wurde 2010 автор: Петра Смуда (Vocals//Saxo
 phon//Querflöte) и Ральф Смуда (Гитара//Live Loops//Барабан//Это) gegrün
 det. Оба музыканта долгое время занимались музыкальным творчеством.. Ihr Nam
 e steht für eigene\, groovig – tanzbare Pop\, Rock\, Blues\, Funk und C
 oversongs mit Rhythmus\, Sound\, Gefühl und anspruchsvollen Texten für d
 en Kopf. С помощью Live - Loops &amp\; Sounds wird zusätzlich
  noch ein abwechselungsreiches\, создает образное звуковое ощущение. Mit
  dabei haben sie ihr Album "Вибрации". Der Sound wurde zwischen Oktobe
 r 2024 и март 2025 полностью реконструирован в Португалии! Groovespecials 
 haben nun Bandcharakter und sind tanzbar.\n\nhttps://groovespecials.de/hoe
 rprobe/\n\n\nEinlass ab 19:30 Часы / Начать с 20 Uhr\n\nEintritt (nur Aben
 dkasse): 8-14€ (для самооценки)\n\nDas Konzert findet in der B
 ar des Sandershaus statt. Bei gutem Wetter findet das Konzert im Biergarte
 n des Sandershaus statt.\n\n\nFoto von Ralf Smuda\n
ATTACH;FMTTYPE=image/jpeg:HTTPS://www.die-dezentrale.net/wp-content/upload
 s/2025/04/Groovespecials_fb.jpg
CATEGORIES:konzert
LOCATION:Sandershaus | Sander Straße 79\, Kassel\, 34123\, Гер
 мания
GEO:51.31061;9.52756
X-APPLE-STRUCTURED-LOCATION;VALUE=URI;X-ADDRESS=Sandershäuser Straße 79\,
  Kassel\, 34123\, Германия;X-APPLE-RADIUS=100;X-TITLE=Sandershaus:
 geo:51.31061,9.52756
END:VEVENT
BEGIN:VTIMEZONE
TZID:Europe/Berlin
X-LIC-LOCATION:Europe/Berlin
BEGIN:DAYLIGHT
DTSTART:20250330T030000
TZOFFSETFROM:+0100
TZOFFSETTO:+0200
TZNAME:CEST
END:DAYLIGHT
END:VTIMEZONE
END:VCALENDAR