BEGIN:VCALENDAR
VERSION:2.0
PRODID:-//wp-events-plugin.com//7.0.5//EN
TZID:Europe/Berlin
X-WR-TIMEZONE:Europe/Berlin
BEGIN:VEVENT
UID:6704@die-dezentrale.net
DTSTART;TZID=Europe/Berlin:20200306T200000
DTEND;TZID=Europe/Berlin:20200306T200000
DTSTAMP:20200211T105920Z
URL:https://www.die-dezentrale.net/events/groove-t/
SUMMARY:concierto: Groove T.
DESCRIPTION:La banda de seis piezas Groove T. aus Kassel präsentiert ein energ
 iegeladenes und abwechslungsreiches Programm mit vielen bekannten Klassike
 rn aber auch weniger bekannten Titeln aus Soul\, R &amp; B y rock. Ob nu
 n Stevie Wonder\, Marvin Gaye\, James Brown\,Tina Turner\, Chic oder Amy W
 inehouse\, Groove T. verleiht den Songs stets einen eigenen Charakter und 
 Stil.\n\nDer ausdrucksstarke und kraftvolle Gesang der beiden Lead-Sänger
 innen sowie\ndas facettenreiche\, pulsierende Zusammenspiel von Gitarre\, 
 Keyboards\, Bass und\nSchlagzeug begeistern das Publikum.\n\nGet the groov
 e - con Groove T.!\n\n&nbsp\;\n\nDas Konzert findet in der Sandershaus Ba
 r statt / Eintritt Hutkasse
ATTACH;FMTTYPE=image/jpeg:https://www.die-dezentrale.net/wp-content/upload
 s/2020/02/Groove-T.-Foto_LR.jpg
CATEGORIES:konzert
LOCATION:Sandershaus | Sandershäuser Str. 79\, Kassel\, Alemania
GEO:51.310780;9.527780
X-APPLE-STRUCTURED-LOCATION;VALUE=URI;X-ADDRESS=Sandershäuser Str. 79\, Ka
 ssel\, Alemania;X-APPLE-RADIUS=100;X-TITLE=Sandershaus:geo:51.310780,9.527
 780
END:VEVENT
BEGIN:VTIMEZONE
TZID:Europe/Berlin
X-LIC-LOCATION:Europe/Berlin
BEGIN:STANDARD
DTSTART:20191027T020000
TZOFFSETFROM:+0200
TZOFFSETTO:+0100
TZNAME:CET
END:STANDARD
END:VTIMEZONE
END:VCALENDAR