BEGIN:VCALENDAR
VERSION:2.0
PRODID:-//wp-events-plugin.com//7.0.5//EN
TZID:Europe/Berlin
X-WR-TIMEZONE:Europe/Berlin
BEGIN:VEVENT
UID:11162@die-dezentrale.net
DTSTART;TZID=Europe/Berlin:20240722T223000
DTEND;TZID=Europe/Berlin:20240722T223000
DTSTAMP:20240617T074125Z
URL:https://www.die-dezentrale.net/events/h_u_t-_-weird-punk-art-rock-no-w
 ave/
SUMMARY:H_U_T._ (Weird-Punk / Art-Rock / No-Wave)
DESCRIPTION:H_U_T._ ist ein experimentelles Musik- und Künstlerkollektiv m
 it Sitz in Tilburg (NL). Inspiriert von dem wegweisenden Geist der Fluxus-
 Bewegung\, umarmt H_U_T._ einen offenen Ansatz zur künstlerischen und mus
 ikalischen Freiheit. Ihre Arbeit reicht von Weird-Punk\, Art-Rock und Happ
 enings bis hin zu Noise und Improvisation. Während der META-META-META-Tou
 r (Juli 2024) werden sie neue Musik spielen\, die größtenteils darauf au
 sgerichtet ist\, live auf verschiedene Arten interpretiert zu werden. Denk
 en Sie an Bands wie Wire\, Pharaoh Overlord und Alice Coltrane.\n\nhttps:/
 /youtu.be/S1qEc9wN2AQ?feature=shared\n\n\nEinlass ab 22 Uhr / Beginn um 22
 :30 Uhr\nEintritt: 5 - 10 €\nDas Konzert findet im Subterrain des Sander
 shaus statt.\n
ATTACH;FMTTYPE=image/jpeg:https://www.die-dezentrale.net/wp-content/upload
 s/2024/06/H_U_T._-pressphoto-fb-scaled.jpg
CATEGORIES:konzert
LOCATION:Sandershaus | Sandershäuser Straße 79\, Kassel\, 34123\, Deutsch
 land
GEO:51.31061;9.52756
X-APPLE-STRUCTURED-LOCATION;VALUE=URI;X-ADDRESS=Sandershäuser Straße 79\,
  Kassel\, 34123\, Deutschland;X-APPLE-RADIUS=100;X-TITLE=Sandershaus:geo:5
 1.31061,9.52756
END:VEVENT
BEGIN:VTIMEZONE
TZID:Europe/Berlin
X-LIC-LOCATION:Europe/Berlin
BEGIN:DAYLIGHT
DTSTART:20240331T030000
TZOFFSETFROM:+0100
TZOFFSETTO:+0200
TZNAME:CEST
END:DAYLIGHT
END:VTIMEZONE
END:VCALENDAR