BEGIN:VCALENDAR
VERSION:2.0
PRODID:-//wp-events-plugin.com//7.0.5//EN
TZID:Europe/Berlin
X-WR-TIMEZONE:Europe/Berlin
BEGIN:VEVENT
UID:9113@die-dezentrale.net
DTSTART;TZID=Europe/Berlin:20221111T200000
DTEND;TZID=Europe/Berlin:20221111T234500
DTSTAMP:20221027T092454Z
URL:https://www.die-dezentrale.net/events/howie-reeve-leonore-boulanger/
SUMMARY:Howiego Reeve’a + Léonore Boulanger
DESCRIPTION:HOWIE REEVE\nPost-Punk\, Avant-pop\, Solo bass\n\nHowie Reeve i
 st nicht nur ein exzellenter Bassist und Sänger\, sondern auch noch ein w
 ahnsinnig charismatischer Performer. Er macht seit einer halben Ewigkeit M
 usik und ist tief in der DIY-Subkultur verwurzelt. Zunächst als Teil eine
 r ganzen Reihe von Glasgower Bands\, ponieważ 2012 solo z Akkustikbassem. Stil
 istisch bewegt er sich im Post-Punk\, Avant-Pop und Folk.\n\nhowiereeve.ba
 ndcamp.com/album/double-rainbow\nyoutube.com/watch?v=Wv9oitB2Mf0\n\n\nLÉO
 NORE BOULANGER\nAvant-Pop\, Folk\, Jazz\n\nLéonore Boulanger ist eine ung
 laublich vielseitige Künstlerin. Sie hat Schauspiel\, experimentelle Jazz
 improvisation und persische Musik in Paris studiert. Ihre Musik spiegelt i
 hr großes Interesse an afrikanischer Folklore und an Komponisten wie Geor
 ge Crumb\, Teiji Ito\, Harry Partch i piosenkarka Meredith Monk. Uns e
 rwarten Einflüsse klassischer Musik\, quirky Jazz-Pop\, imaginärer Folk\
 , Spieldosen\, R'n'B-Mittelalterliches\, Motetten und futuristische Madrig
 ale\, die wie Hopfenkuchen aufgebaut sind\, byzantinische Mathematik.\n\nl
 eonoreboulanger.bandcamp.com\nyoutube.com/watch?v=5FQGrCwHunA\nlesaule.fr/
 leonoreboulanger\n\n\nLéonore Boulanger und Howie Reeve sind gemeinsam au
 f Tour. Howie war schon oft im Subterrain zu Gast\, Léonore begrüßen wi
 r zum ersten Mal. Wir freuen uns darauf\, die beiden willkommen zu heißen
 .\n 
CATEGORIES:konzert
LOCATION:Sandershaus | Sander Straße 79\, Kassel\, 34123\, Germany
GEO:51.31061;9.52756
X-APPLE-STRUCTURED-LOCATION;VALUE=URI;X-ADDRESS=Sandershäuser Straße 79\,
  Kassel\, 34123\, Niemcy;X-APPLE-RADIUS=100;X-TITLE=Sandershaus:geo:51.31
 061,9.52756
END:VEVENT
BEGIN:VTIMEZONE
TZID:Europe/Berlin
X-LIC-LOCATION:Europe/Berlin
BEGIN:STANDARD
DTSTART:20221030T020000
TZOFFSETFROM:+0200
TZOFFSETTO:+0100
TZNAME:CET
END:STANDARD
END:VTIMEZONE
END:VCALENDAR