BEGIN:VCALENDAR
VERSION:2.0
PRODID:-//wp-events-plugin.com//7.0.5//EN
TZID:Europe/Berlin
X-WR-TIMEZONE:Europe/Berlin
BEGIN:VEVENT
UID:7738@die-dezentrale.net
DTSTART;TZID=Europe/Berlin:20200929T183000
DTEND;TZID=Europe/Berlin:20200929T193000
DTSTAMP:20200918T103142Z
URL:https://www.die-dezentrale.net/events/infotreffen-1-nachbarschaftskrei
 se-klimawende/
SUMMARY:Infotreffen #1 Nachbarschaftskreise Klimawende
DESCRIPTION:Enerji geçişi neden ilerlemiyor?? Und warum hat n
 icht jedes Haus eine Solaranlage auf dem Dach? Statt dich das zu fragen ka
 nnst du einfach selber starten\, zusammen mit den Menschen in deiner Nachb
 arschaft!\n\nFür uns sind die Nachbarschaften eine enorm wichtige Keimzel
 le der lokalen Bürgerenergiewende. Wir wollen Eure Nachbarschaften gemein
 sam mit Euch genau dazu machen – zu einer Nachbarschaft\, die in der Kli
 mawende vorangeht.\n\nDu möchtest etwas bewegen in deiner Nachbarschaft? 
 Sizi bu konuda destekliyoruz!\n\nZusammen können wir viele verschiedene P
 rojekte umsetzen\, gibi:\n• Anschaffung einer PV-Anlage zur 
 gemeinschaftlichen Nutzung auf dem Dach vom Supermarkt um die Ecke\n• Sa
 mmelbestellung für Balkonkraftwerke um auch in der Mietwohnung zur Prosum
 ent*in zu werden (Üretici + Konsument * in = Prosument * in)\n• Anschaf
 fung eines gemeinsamen E-Lastenrads\n• Deine Idee!\n\nDie Möglichkeiten
  sind vielfältig und was sich erträumen lässt\, lässt sich auch umsetz
 en.\n\nWir bauen gemeinsame eine Gemeinschaft aus Klimawende-Nachbar*innen
  auf und begleiten euch über ein Jahr bei der Umsetzung eurer Projekte.\n
 \nTermine:\nInfotreffen #1: Dienstag\, 29.09.20\, 18:30 Uhr\nhttps://us02w
 eb.zoom.us/j/88532072946?pwd=bk84ZFpPdFp6VnppUlVrWFlTUXlVQT09\nMeeting-ID:
  885 3207 2946 | Kenncode: 681414\n\nInfotreffen #2: Donnerstag\, 08.10.20
 \, 17:00 Uhr\nhttps://us02web.zoom.us/j/81441574757?pwd=RUVlczA3U1lxZFlZUH
 Z5bW1pNVZBZz09\nMeeting-ID: 814 4157 4757 | Kenncode: 643987\n\nInfotreffe
 n #3: Mittwoch\, 14.10.20\, 17:30 Uhr\nhttps://us02web.zoom.us/j/894297930
 55?pwd=UjMxV3JHNHlUTVVQVDhLV3NFK3RZUT09\nMeeting-ID: 894 2979 3055 | Kennc
 ode: 651567\n\nMehr Infos: https://www.solocal-energy.de/nachbarschaftskre
 is-klimawende/\n\nIllustration: Caro Pysalski
ATTACH;FMTTYPE=image/jpeg:https://www.die-dezentrale.net/wp-content/upload
 s/2020/09/Nachbarschaftskreise_Klimawende_bunt_klein.png
CATEGORIES:eylem,öğrenmek,karşılamak,ders,workshop
END:VEVENT
BEGIN:VTIMEZONE
TZID:Europe/Berlin
X-LIC-LOCATION:Europe/Berlin
BEGIN:DAYLIGHT
DTSTART:20200329T030000
TZOFFSETFROM:+0100
TZOFFSETTO:+0200
TZNAME:CEST
END:DAYLIGHT
END:VTIMEZONE
END:VCALENDAR