BEGIN:VCALENDAR
VERSION:2.0
PRODID:-//wp-events-plugin.com//7.0.5//EN
TZID:Europe/Berlin
X-WR-TIMEZONE:Europe/Berlin
BEGIN:VEVENT
UID:9694@die-dezentrale.net
DTSTART;TZID=Europe/Berlin:20230618T180000
DTEND;TZID=Europe/Berlin:20230618T200000
DTSTAMP:20230609T133223Z
URL:https://www.die-dezentrale.net/events/infoveranstaltung-3-jahre-nach-d
 em-rassistischen-mordversuch-an-b-efe-was-ist-seitdem-passiert/
SUMMARY:événement d'information: 3 Jahre nach dem rassistischen Mordversuch an B.
 Eph - Was ist seitdem passiert?
DESCRIPTION:Kurz vor dem Jahrestag wollen wir auf die Tat und die Konsequen
 zen aufmerksam machen. Drei Jahre sind vergangen und es ist immer noch kei
 n Täter gefunden\, die Konsequenzen sind sichtbarer denn je\, wir kämpfe
 n gemeinsam mit B. Efe weiter für Aufklärung\, Entschädigung und würdi
 ges Erinnern.\n\nBei der Infoveranstaltung stellen wir unsere Arbeit als S
 oligruppe vor und versuchen Beziehungen zu anderen rechten\, rassistischen
  sowie antisemitischen Taten und Stimmen von Überleben und Betroffenen si
 chtbar zu machen.\n\nAnschließend wollen wir gemeinsam überlegen\, wie E
 rinnern an rechte Gewalt aussehen kann und welche Möglichkeiten des prakt
 ischen Supports es gibt.\n\nOrganisiert von Soligruppe B. Eph 09
ATTACH;FMTTYPE=image/jpeg:https://www.die-dezentrale.net/wp-content/upload
 s/2023/06/info-VA-sharepic.jpg
CATEGORIES:vortrag
LOCATION: | \, 
GEO:51.318401;9.492458
X-APPLE-STRUCTURED-LOCATION;VALUE=URI;X-ADDRESS=\, ;X-APPLE-RADIUS=100;X-TI
 TLE=:geo:51.318401,9.492458
END:VEVENT
BEGIN:VTIMEZONE
TZID:Europe/Berlin
X-LIC-LOCATION:Europe/Berlin
BEGIN:DAYLIGHT
DTSTART:20230326T030000
TZOFFSETFROM:+0100
TZOFFSETTO:+0200
TZNAME:CEST
END:DAYLIGHT
END:VTIMEZONE
END:VCALENDAR