BEGIN:VCALENDAR
VERSION:2.0
PRODID:-//wp-events-plugin.com//7.0.5//EN
TZID:Europe/Berlin
X-WR-TIMEZONE:Europe/Berlin
BEGIN:VEVENT
UID:9195@die-dezentrale.net
DTSTART;TZID=Europe/Berlin:20230124T170000
DTEND;TZID=Europe/Berlin:20230124T190000
DTSTAMP:20221215T153839Z
URL:https://www.die-dezentrale.net/events/input-und-vernetzung-studentisch
 er-hilfskraefte-der-uni-kassel/
SUMMARY:Input und Vernetzung studentischer Hilfskräfte der Uni Kassel
DESCRIPTION:👉An alle Hilfskräfte und Tutor*innen der Uni Kassel — kom
 mt vorbei und tauscht euch über eure Arbeitsbedingungen aus! 👈\n\nDu h
 ast dir noch nie Gedanken über Urlaub als Hilfskraft gemacht? Oder was pa
 ssiert\, wenn du mal krank bist – aber der Stoff im Tutorium nachgeholt 
 werden soll?\n\nOder hast du vielleicht einen guten Umgang und Lust\, ande
 ren Tips zu geben?\n\nSo oder so – Es gibt genug zu tun\, denn bessere A
 rbeitsbedingungen erkämpfen sich nicht von alleine. Also kommt vorbei\, s
 chnappt euch eine Limo und kommt mit den anderen Hilfskräften aus!\n\n
 🕔 Wann?  Di\, 24.01.2023\n17 - 19 Uhr\n📍 Wo?      Café desast
 a\n\n📲 Kommt außerdem in unsere Telegram Gruppe\, um auf dem Laufenden
  zu bleiben oder euch schonmal mit anderen zu vernetzen.\nhttps://t.me/+aX
 8u_XEQVy9jODJi
ATTACH;FMTTYPE=image/jpeg:https://www.die-dezentrale.net/wp-content/upload
 s/2022/12/Input-zu-Hilfskraftvertraegen-und-Austausch.png
CATEGORIES:treffen,vortrag
LOCATION:Café DesAStA | Arnold-Bode-Straße 6\, Kassel\, Hessen\, 34127\, 
 Deutschland
GEO:51.322834;9.504107
X-APPLE-STRUCTURED-LOCATION;VALUE=URI;X-ADDRESS=Arnold-Bode-Straße 6\, Kas
 sel\, Hessen\, 34127\, Deutschland;X-APPLE-RADIUS=100;X-TITLE=Café DesASt
 A:geo:51.322834,9.504107
END:VEVENT
BEGIN:VTIMEZONE
TZID:Europe/Berlin
X-LIC-LOCATION:Europe/Berlin
BEGIN:STANDARD
DTSTART:20221030T020000
TZOFFSETFROM:+0200
TZOFFSETTO:+0100
TZNAME:CET
END:STANDARD
END:VTIMEZONE
END:VCALENDAR