BEGIN:VCALENDAR
VERSION:2.0
PRODID:-//wp-events-plugin.com//7.0.5//EN
TZID:Europe/Berlin
X-WR-TIMEZONE:Europe/Berlin
BEGIN:VEVENT
UID:10186@die-dezentrale.net
DTSTART;TZID=Europe/Berlin:20240131T183000
DTEND;TZID=Europe/Berlin:20240131T203000
DTSTAMP:20231124T185740Z
URL:https://www.die-dezentrale.net/events/intersektionale-diskriminierung-
 und-rechtskaempfe-in-globalen-produktionsnetzwerken/
SUMMARY:Intersektionale Diskriminierung und Rechtskämpfe in globalen Produ
 ktionsnetzwerken
DESCRIPTION:Lecture and commentary with representative. Prof. Dr. Dr. Carolina Alves V
 estena (Political theory) and Prof. Dr. Anne Lisa Carstensen (Globale Po
 litische Ökonomie der Arbeit unter Berücksichtigung der Geschlechterverh
 ältnisse).\n\nModeration: Dr. Andreas Gutman\n\nOrt: Nora Platical Strasse
  1\, Raum 1311\, Universität Kassel
CATEGORIES:vortrag
LOCATION:University of Kassel | Universität Kassel Campus Holländischer Pl
 atz\, Kassel\, Germany
GEO:51.321181;9.503253
X-APPLE-STRUCTURED-LOCATION;VALUE=URI;X-ADDRESS=Universität Kassel Campus 
 Holländischer Platz\, Kassel\, Germany;X-APPLE-RADIUS=100;X-TITLE=Univers
 ität Kassel:geo:51.321181,9.503253
END:VEVENT
BEGIN:VTIMEZONE
TZID:Europe/Berlin
X-LIC-LOCATION:Europe/Berlin
BEGIN:STANDARD
DTSTART:20231029T020000
TZOFFSETFROM:+0200
TZOFFSETTO:+0100
TZNAME:CET
END:STANDARD
END:VTIMEZONE
END:VCALENDAR