BEGIN:VCALENDAR
VERSION:2.0
PRODID:-//wp-events-plugin.com//7.0.5//EN
TZID:Europe/Berlin
X-WR-TIMEZONE:Europe/Berlin
BEGIN:VEVENT
UID:11296@die-dezentrale.net
DTSTART;TZID=Europe/Berlin:20240705T103000
DTEND;TZID=Europe/Berlin:20240705T120000
DTSTAMP:20240630T125712Z
URL:https://www.die-dezentrale.net/events/is-anti-zionism-antisemitic-abou
 t-the-weaponization-of-antisemitism-in-current-debates/
SUMMARY:هل معاداة الصهيونية معادية للسامية? About the Weaponization of Antisemitis
 m in Current Debates
DESCRIPTION:Public lecture by political scientist and author Emilia Roig to
  be held at Freie Universität on July 5\, 2024\, في 10:30 a.m.\n\n\n\nThe
  Diversity and Antidiscrimination Office at Freie Universität Berlin invi
 tes members of the public to an English-language lecture by intersectional
 ity and antidiscrimination expert Dr. إميلي رويج. Her talk “Is Anti-Zio
 nism Antisemitic? About the Weaponization of Antisemitism in Current Debat
 es” will take place on Friday July 5\, 2024\, من عند 10:30 أكون. حتى 12 n
 oon at the Henry Ford Building\, جامعة برلين الحرة. The lecture is
  part of a series of workshops and events that deal with antisemitism\, Is
 lamophobia\, والعنصرية في جامعة برلين الحرة. Anyone with an inter
 est in the topic is encouraged to attend.\n\n\n\n\nIn her public lecture o
 n July 5\, 2024\, French political scientist Emilia Roig will explore the 
 complex and contentious relationship between Zionism and antisemitism. The
  discussion will delve into historical and contemporary contexts\, examini
 ng how accusations of antisemitism have been weaponized by numerous factio
 ns within the Zionist movement and the impact this has on political discou
 rse\, freedom of speech\, and the global perception of the current situati
 on in Gaza\, Palestine\, وإسرائيل. The consequences of using accusations
  of antisemitism as a political tool\, as well as the ethical implications
  for genuine efforts to combat antisemitism will be discussed.\n\nAs an au
 thor\, political scientist\, and activist\, Roig tackles systematic inequa
 lities and discrimination through an intersectional approach. She gives ke
 ynote speeches and workshops\, advising companies\, NGOs\, and governments
  on topics such as intersectionality\, discrimination\, diversity\, and in
 clusion. Roig has worked for Amnesty International\, the United Nations\, 
 and the Deutsche Gesellschaft für Internationale Zusammenarbeit (GIZ). Sh
 e has also carried out teaching assignments at Humboldt-Universität zu Be
 rlin and Freie Universität Berlin. She founded the Berlin-based Center fo
 r Intersectional Justice (CIJ) in 2017.\n\n\n
CATEGORIES:تعلم,vortrag
LOCATION:في مكان آخر (TBA) | Veranstaltungsort\, siehe Veranstaltungsdetails\,
  ألمانيا
GEO:51.315716;9.497871
X-APPLE-STRUCTURED-LOCATION;VALUE=URI;X-ADDRESS=Veranstaltungsort\, siehe V
 eranstaltungsdetails\, ألمانيا;X-APPLE-RADIUS=100;X-TITLE=Woanders 
 (TBA):geo:51.315716,9.497871
END:VEVENT
BEGIN:VTIMEZONE
TZID:Europe/Berlin
X-LIC-LOCATION:Europe/Berlin
BEGIN:DAYLIGHT
DTSTART:20240331T030000
TZOFFSETFROM:+0100
TZOFFSETTO:+0200
TZNAME:CEST
END:DAYLIGHT
END:VTIMEZONE
END:VCALENDAR