BEGIN:VCALENDAR
VERSION:2.0
PRODID:-//wp-events-plugin.com//7.0.5//EN
TZID:Europe/Berlin
X-WR-TIMEZONE:Europe/Berlin
BEGIN:VEVENT
UID:9526@die-dezentrale.net
DTSTART;TZID=Europe/Berlin:20230531T203000
DTEND;TZID=Europe/Berlin:20230531T203000
DTSTAMP:20230418T105255Z
URL:https://www.die-dezentrale.net/events/jack-of-heart/
SUMMARY:JACK OF HEART
DESCRIPTION:Eine Handvoll 45er\, zwei LPs und ausgedehnte Tourneen in die g
 anze Welt haben Jack of Heart aus Perpignan als eine der wichtigsten zeitg
 enössischen Gruppen des Garagerock etabliert.\n\nNatürlich erhebt Jack o
 f Heart Anspruch auf den Psychedelismus von Syd Barrets (Pink Floyd)\, das
  Erbe von Velvet und das Songwriting von Lee Hazlewood. Aber die Gruppe ge
 ht darüber hinaus und spielt Rock'n Roll\, der die Regeln der Garage-Folk
 lore aufhebt\, die oft zu regressiv und rückwärtsgewandt ist.\n\nJack of
  Heart ist auch für seine explosiven Live-Auftritte bekannt\, zusammen mi
 t Black Lips\, Magnetix\, King Kahn and the Shrines und BBQ.\n\nzum Reinh
 ören:\n\n\n\nDas Konzert findet im Subterrain des Sandershaus statt.\n\nB
 eginn um 20:30 Uhr\n\n______\nVeranstaltet vom Weltsubkulturerbe e.V. in K
 ooperation mit Grablicht und dem Sandershaus e.V.
ATTACH;FMTTYPE=image/jpeg:https://www.die-dezentrale.net/wp-content/upload
 s/2023/04/jack-of-heart-Foto.jpg
CATEGORIES:konzert
LOCATION:Sandershaus | Sandershäuser Straße 79\, Kassel\, 34123\, Deutsch
 land
GEO:51.31061;9.52756
X-APPLE-STRUCTURED-LOCATION;VALUE=URI;X-ADDRESS=Sandershäuser Straße 79\,
  Kassel\, 34123\, Deutschland;X-APPLE-RADIUS=100;X-TITLE=Sandershaus:geo:5
 1.31061,9.52756
END:VEVENT
BEGIN:VTIMEZONE
TZID:Europe/Berlin
X-LIC-LOCATION:Europe/Berlin
BEGIN:DAYLIGHT
DTSTART:20230326T030000
TZOFFSETFROM:+0100
TZOFFSETTO:+0200
TZNAME:CEST
END:DAYLIGHT
END:VTIMEZONE
END:VCALENDAR