BEGIN:VCALENDAR
VERSION:2.0
PRODID:-//wp-events-plugin.com//7.0.5//EN
TZID:Europe/Berlin
X-WR-TIMEZONE:Europe/Berlin
BEGIN:VEVENT
UID:14057@die-dezentrale.net
DTSTART;TZID=Europe/Berlin:20250926T200000
DTEND;TZID=Europe/Berlin:20250926T200000
DTSTAMP:20250923T105747Z
URL:https://www.die-dezentrale.net/events/jenny-thiele-koeln-marilyn-harve
 st/
SUMMARY:Jenny Thiele (Cologne) + Nevis (Berlin)
DESCRIPTION:&nbsp\;\n\n&nbsp\;\n\n              \n\nBeginn: 20 Uhr\,
  inlet 19 Uhr\n\nEintritt: 18 €\n\nOrt: Kulturfabrik Salzmann - Spiels
 tätte am Kupferhammer\, Leipziger Straße 407\n\nVeranstalterin: Kulturfa
 brik Salzmann\n\n \n\nJenny Thiele: Cologne is in front of your window. Cologne-
 Mülheim\, if you take it seriously. Jenny Thiele liebt es hier\, ein kreat
 iver\, aufgekratzter Kiez\, but who is never out for stress. Köln at its 
 best eben. Gebürtig in Dresden\, aufgewachsen beschaulich mausig am Niede
 rrhein\, studied in Benelux, the musician is one thing above all: Natural Bo
 rn Künstlerin. Wo andere vielleicht über Zufälle oder Verstrickungen au
 f der Bühne landen mögen\, gab es für Jenny Thiele nie einen Zweifel\, 
 not the other Option. Und wo andere zwischen Kunst\, Life und Selbstverma
 rktung den Fokus verlieren\, hat Jenny Thiele immer noch ein paar Tentakel
  übrig\, um am liebsten noch ein neues Projekt anzuschieben.\n\nJenny Thi
 ele hat einen Crush auf das Zusammenlegen von Ideen und Ressourcen - sich 
 inspirieren\, try yourself out. Mit Irene Novoa unterhält sie das Duo An
 naOtta – auf ihrer gemeinsamen musikalischen Forschungsreise emulieren d
 ie beiden hypnotischen Jazz mit elektronischen Mitteln\, machen Avantgarde
  tanzbar. And how! In addition, Jenny Thiele sees herself staying together for many years (u
 nd zuletzt noch mal lose) connected to the band Fortuna Ehrenfeld. Ja\,
  genau\, der charismatische Act mit dem Typ in Stola\, Puschen und Schlafa
 nzug. The last command. Allein durch Fortuna Ehrenfeld stieg Jenny Thie
 les Konzert-Count in schwindelerregende Höhen.\n\n&nbsp\;\n\nNevis: Seit 
 ihrem Debüt „Morgens“ hat sich mit Verena Deege und Moritz Andrejewsk
 i nicht nur eine feste Bandbesetzung um Sänger und Songwriter Lennie Gott
 berg gefunden – auch Sound und Texte sprechen auf ihrem\, im Dezember er
 scheinenden ersten Album „Keine Sorge“ eine neue\, schnörkellose Spra
 che. Ohne den rauen Gitarren-Sound zu verraten\, pendeln Nevis zwischen In
 die\, Pop\, Punk und Singer-Songwriter\, steuern mal melancholisch\, mal t
 reibend\, dann wieder verliebt oder wütend durch ihre dreizehn neuen Song
 s – und schmettern einem dabei eine unausweichliche Lebensfreude entgege
 nWas ihr Live-Publikum schon lange an Nevis schätzt\, ist nun endlich auc
 h auf Platte zu hören:keine glattpolierte Studioproduktion\, sondern ehrl
 icher Band-Sound\, der beweist\, dass verletzliche deutschsprachige Indie-
 Musik nicht in traurigem Tiefgang versinken muss\, sondern Selbstironie\, 
 Euphorie und ein paar alberne Dancemoves verdient hat.\n\n&nbsp\;\n\nKarte
 nreservierung möglich unter www.kulturfabrik-kassel.de oder per E-Mail: i
 nfo@kulturfabrik-kassel.de\n\n&nbsp\;\n\nFoto unten: Jenny Thiele © Tom H
 agemeyer\n\nFoto oben: Nevis © Nevis
CATEGORIES:konzert
LOCATION:Kulturfabrik Salzmann (on the copper hammer) | Leipziger Strasse 407\, 
 Kassel\, Hessen\, 34123\, Germany
GEO:51.294032;9.557798
X-APPLE-STRUCTURED-LOCATION;VALUE=URI;X-ADDRESS=Leipziger Straße 407\, Kas
 sel\, Hessen\, 34123\, Germany;X-APPLE-RADIUS=100;X-TITLE=Kulturfabrik Sal
 zmann (on the copper hammer):geo:51.294032,9.557798
END:VEVENT
BEGIN:VTIMEZONE
TZID:Europe/Berlin
X-LIC-LOCATION:Europe/Berlin
BEGIN:DAYLIGHT
DTSTART:20250330T030000
TZOFFSETFROM:+0100
TZOFFSETTO:+0200
TZNAME:CEST
END:DAYLIGHT
END:VTIMEZONE
END:VCALENDAR