BEGIN:VCALENDAR
VERSION:2.0
PRODID:-//wp-events-plugin.com//7.0.5//EN
TZID:Europe/Berlin
X-WR-TIMEZONE:Europe/Berlin
BEGIN:VEVENT
UID:13181@die-dezentrale.net
DTSTART;TZID=Europe/Berlin:20250404T200000
DTEND;TZID=Europe/Berlin:20250404T200000
DTSTAMP:20250305T104814Z
URL:https://www.die-dezentrale.net/events/jmo-che-isr-sen-fusion-von-mmo-k
 s-mit-ibs-sallah-dady-dem-gmb-goe/
SUMMARY:JMO (CHE/ISR/SEN) + Fusion von MMO (KS) mit Ibs Sallah &amp\; Dady 
 Dem (GMB/GÖ)
DESCRIPTION:début: 20 Uhr\, prise 19 Uhr\n\nEintritt: 18 €\n\nOrt: Kul
 turfabrik Salzmann - Spielstätte am Kupferhammer\, Leipziger Strasse 407\
 n\nVeranstalterin: Kulturfabrik Salzmann\n\nJMO: drei Länder – eine Spr
 ache!\n\nZum 10-jährigen Jubiläum präsentieren Jan Galega Brönnimann\,
  Moussa Cissokho und Omri Hason ihre dritte CD In Ia Yelle. Auf Mandinka\,
  der Sprache einer Ethnie Westafrikas\, bedeutet das: Open Your Eyes. JMO 
 sind nicht nur die Anfangsbuchstaben der drei Musiker Jan Galega Brönnima
 nn\, Moussa Cissokho und Omri Hason\, sondern auch die drei Haupteinflüss
 e in deren Musik: le jazz - Mandinka – Orient Die ersten beiden CDs „Al n
 ge taa“ und „Dandoula Tala“ wurden von der Presse und vom Publikum i
 nternational gefeiert und erscheinen bereits in dritter Auflage und wurden
  über 5000 mal verkauft. Die Musik von JMO - Jan Galega Brönnimann (Swit
 zerland)\, Moussa Cissokho (Senegal) und Omri Hason (Israël) - lässt die 
 Kunst des Geschichtenerzählens wieder aufleben. Der perlend klare Klang d
 er Kora (traditionelle afrikanische Stegharfe mit 22 Saiten) trifft auf di
 e sonoren\, rauchigen Töne der Bassklarinette und wird unterstützt von d
 en verschiedenen Perkussionsinstrumenten von Omri Hason. Das Zusammenspiel
  von Moussa Cissokho\, Jan Galega Brönnimann und Omri Hason besticht durc
 h schöne Melodien und rhythmische Eleganz – bei ihren unvergesslichen l
 ive Konzerten pendeln die drei zwischen magisch verklärten Momenten und r
 hythmisch explosiven Höhenflügen. Es entsteht eine authentische und zeit
 genössische Kammermusik. Das Trio überschreitet Grenzen zwischen traditi
 onellen und modernen Klängen aus Afrika\, Europa und dem Orient. Das Repe
 rtoire stammt von allen drei Musikern und zeigt ihre unterschiedlichen Ein
 flüsse. Das Aufeinandertreffen der drei Kulturen\, die Auswahl der Instru
 mente und der reiche Fundus an Ideen\, Melodien und Rhythmen macht die Mus
 ik zu einem unvergesslichen Hörabenteuer!\n\nBeeinflusst vom kulturellen 
 Erbe der westafrikanischen Griot Gesänge singt Moussa Cissokho vom heutig
 en Leben in Afrika und Europa. In seinen Texten geht es um Sehnsucht\, um 
 geheimnisvolle Flüsse oder Erfahrungen bei Grenzkontrollen in Europa. Er 
 gehört zur 42. Generation der grossen Kora Dynastie und Griot Familie Cis
 sokho\, welche seit über 1000 Jahren die Tradition der Westafrikanischen 
 Musik prägt. JMO ist nun schon seit 10 Jahren international unterwegs und
  spielte in Japan\, Frankreich\, Israel\, Slowakei\, Holland\, Allemagne
 \, Spanien\, England\, Estland\, Letland\, Litauen\, Österreich\, Moldawi
 en\, Tschechien\, Argentinien\, Uruguay\, Paraguay\, Italien\, Rumänien\,
  Slowenien\, Norwegen und der Schweiz.\n\nMMO ist „die Reggae-Band“ au
 s Kassel\, die mit eigenen Stücken\, mit englischen und deutschen Texten 
 sowie Reggae-Coverversionen beispielsweise von Bob Marley\, Jimmy Cliff\, 
 Peter Tosh\, UB 40 u.a. « Reggae Feeling » et bonne humeur se répandent. Al
 les tanzbar und eine Garantie für eine gelungene Reggaeparty im vielfält
 igen Reggaegroove.\n\nMMO gehört indirekt\, aber aus voller Überzeugung\
 , à l&#039;année 2018 offiziell von der Unesco anerkannten immateriellen Welt
 kulturerbe. Wir freuen uns und feiern die Titelvergabe mit Reggae aus Kass
 el.\n\nWe remember Bob Marley.\n\nDurch die lebendige Präsentation\, den 
 mitreißenden Groove und die musikalische Flexibilität begeistert MMO bei
  jedem Anlass. Mit Wenzel Erszény steht ein begnadeter Entertainer und di
 e Stimmungskanone „Mister Positive“ im Mittelpunkt.\n\nBesetzung: Wenz
 el Erszény (Vocals &amp\; Guitare) - Jonas Kauppert (Guitare) – Reiner 
 Engel (Bass &amp\; Vocal) –Jojo M. (Keyboards &amp\; Vocal) – Oliver 
 Leuer (Drums &amp\; Vocal)\n\nwww.mmo-mmo.de\; https://www.facebook.com/mm
 oreggae/\n\nDes Weiteren werden Ibs Sallah sowie Dady Dem vom African Cult
 ure Club in Göttingen an diesem Abend zusammen mit MMO auftreten. Mit ihr
 er Band Blessed &amp\; Irie sind die beiden Musiker schon auf dem “One L
 ove”-Festival im Juli 2024 in Kassel aufgetreten.\n\nDer aus Gambia (Wes
 tafrika) stammende Musiker und Musikpädagoge Ibs Sallah lebt und arbeitet
  in Göttingen. Er unterrichtet europaweit\, gibt Workshops für Kinder\, 
 Jeunes et adultes dans les écoles et centres culturels. Darüber hinaus e
 ngagiert er sich weltweit für soziale Projekte. Seit etlichen Jahren leit
 et er die von der Kulturfabrik Salzmann als Beitrag zur musisch-ästhetisc
 hen Bildung aller Alters- und Lernstufen veranstalteten Workshops ebenso e
 infühlsam wie mitreißend.\n\nReservierung/ Anmeldung unter www.kulturfab
 rik-kassel.de oder per E-Mail: info@kulturfabrik-kassel.de\n\n\n\noben lin
 ks: JMO © C. Engstler\n\nunten links: MMO © Dirk Lieschke\n\noben rechts
 : Ibs Sallah © Ibs Sallah\n\nunten rechts: Dady Dem © Dady Dem\n\n&nbsp\
 ;\n\n&nbsp\;\n\n&nbsp\;\n\n&nbsp\;
CATEGORIES:konzert
LOCATION:Kulturfabrik Salzmann (sur le marteau en cuivre) | Leipziger Strasse 407\, 
 Kassel\, Hessen\, 34123\, Allemagne
GEO:51.294032;9.557798
X-APPLE-STRUCTURED-LOCATION;VALUE=URI;X-ADDRESS=Leipziger Straße 407\, Kas
 sel\, Hessen\, 34123\, Allemagne;X-APPLE-RADIUS=100;X-TITLE=Kulturfabrik S
 alzmann (sur le marteau en cuivre):geo:51.294032,9.557798
END:VEVENT
BEGIN:VTIMEZONE
TZID:Europe/Berlin
X-LIC-LOCATION:Europe/Berlin
BEGIN:DAYLIGHT
DTSTART:20250330T030000
TZOFFSETFROM:+0100
TZOFFSETTO:+0200
TZNAME:CEST
END:DAYLIGHT
END:VTIMEZONE
END:VCALENDAR