BEGIN:VCALENDAR
VERSION:2.0
PRODID:-//wp-events-plugin.com//7.0.5//EN
TZID:Europe/Berlin
X-WR-TIMEZONE:Europe/Berlin
BEGIN:VEVENT
UID:14941@die-dezentrale.net
DTSTART;TZID=Europe/Berlin:20260310T190000
DTEND;TZID=Europe/Berlin:20260310T210000
DTSTAMP:20260303T145120Z
URL:https://www.die-dezentrale.net/events/joss-turnbull-duo-nagai-weitzel/
SUMMARY:Joss Turnbull + Duo Nagai-Weitzel
DESCRIPTION:Joss Turnbull: TURMOIL – Die Ästhetik des Widerstands\nJoss 
 Turnbull bricht mit allem\, was man über Schlagzeug zu wissen glaubte. Mi
 t seinem Projekt „TURMOIL“ zelebriert er das sogenannte Struggle Drumm
 ing: Eine hochspannungsgeladene Symbiose aus Percussion und Electronics\, 
 die Gummibälle\, Tremolo-Sticks und Live-Sampling in eine überwältigend
 e akustische Architektur verwandelt. Turnbulls Spiel ist „shivaesk“ 
 – ein phänomenales Erschüttern von Oberflächen\, das bereits Bühnen 
 von Island bis Ägypten in Atem hielt. Das ist kein Konzert\, das ist ein 
 kinetischer Ausnahmezustand und Turnbull ist the Sonic Alchemist.\nhttps:/
 /www.jossturnbull.com/\nhttps://film-shop.org/events/joss-turnbull-duo-nag
 ai-weitzel/\n\nDuo Nagai-Weitzel: 15 Jahre Blind Date mit dem Unvorhersehb
 aren\nDen Abend eröffnet das Duo Chie Nagai (Stimme\, Objekte) und Joshua
  Weitzel (Elektronik). Seit fast 1\,5 Jahrzehnten dekonstruieren sie Genre
 s zwischen japanischer Sound Art\, europäischer Klassik und roher DIY-Äs
 thetik. Ein telepathisches Zusammenspiel\, das die freie Improvisation auf
  ein neues Level hebt.\n\nEin Konzert in Kooperation von Konzept e.V. und 
 Randfilm e.V.\n\nEintritt : 15\,- Euro / 5\,- Euro (ermäßigt)\n\n&nbsp\;
ATTACH;FMTTYPE=image/jpeg:https://www.die-dezentrale.net/wp-content/upload
 s/2026/03/csm_Joss_Turnbull-Andreas_Etter_160af2443a.jpg
CATEGORIES:konzert,performance
LOCATION:Film-Shop Kassel | Erzbergerstr. 12\, Kassel\, 34117\, Deutschland
GEO:51.32013;9.49309
X-APPLE-STRUCTURED-LOCATION;VALUE=URI;X-ADDRESS=Erzbergerstr. 12\, Kassel\,
  34117\, Deutschland;X-APPLE-RADIUS=100;X-TITLE=Film-Shop Kassel:geo:51.32
 013,9.49309
END:VEVENT
BEGIN:VTIMEZONE
TZID:Europe/Berlin
X-LIC-LOCATION:Europe/Berlin
BEGIN:STANDARD
DTSTART:20251026T020000
TZOFFSETFROM:+0200
TZOFFSETTO:+0100
TZNAME:CET
END:STANDARD
END:VTIMEZONE
END:VCALENDAR