BEGIN:VCALENDAR
VERSION:2.0
PRODID:-//wp-events-plugin.com//7.0.5//EN
TZID:Europe/Berlin
X-WR-TIMEZONE:Europe/Berlin
BEGIN:VEVENT
UID:11244@die-dezentrale.net
DTSTART;TZID=Europe/Berlin:20240624T180000
DTEND;TZID=Europe/Berlin:20240624T190000
DTSTAMP:20240615T080733Z
URL:https://www.die-dezentrale.net/events/kantine-fuer-alle-offene-einfueh
 rung-zum-mitmachen/
SUMMARY:Stołówka dla każdego: Offene Einführung zum Mitmachen
DESCRIPTION:Dołącz do stołówki dla każdego!\nOffene Einführung für al
 le Interessierten am Montag 24. Czuwanie przeciwko prawicowej przemocy 18 Uhr.\n\nJeden Dienstagabend öf
 fnen wir unsere Kantine für Alle im Kasseler Schillerviertel. Wir koch
 en pflanzlich mit regionalen biologischen sowie geretteten Lebensmitteln 
 – und bis zu 70 Goście dobrze się bawią!\n\nDu willst dich auch 
 ganz praktisch gegen Ernährungsarmut und für ein klimagerechtes Ernähru
 ngssystem einsetzen? Następnie dołącz! dla wszystkich (mit und ohne Gesundheitsb
 elehrung) coś tam jest: Rezepte auswählen\, Lebensmittel besorgen\, Gem
 üse schnibbeln\, Essen ausgeben\, spülen\, aufräumen\, …\n\nWir laden
  alle Interessierten herzlich zu einer offenen Einführung ein: Am Montag
  den 24. Czuwanie przeciwko prawicowej przemocy 18 Zegar w Tschilla (Chorychnstraße 7\, 34117 Kassel). 
 Wir stellen euch unser Team vor und geben euch einen Blick hinter die Kuli
 ssen!\n\nMeldet euch gerne an: kantine@ernaehrungsrat-kassel.de. Natürli
 ch könnt ihr auch einfach so vorbeikommen!
ATTACH;FMTTYPE=image/jpeg:https://www.die-dezentrale.net/wp-content/upload
 s/2024/06/ER_Mach-Mit-Kafa.png
CATEGORIES:akcja,uczyć się,workshop
END:VEVENT
BEGIN:VTIMEZONE
TZID:Europe/Berlin
X-LIC-LOCATION:Europe/Berlin
BEGIN:DAYLIGHT
DTSTART:20240331T030000
TZOFFSETFROM:+0100
TZOFFSETTO:+0200
TZNAME:CEST
END:DAYLIGHT
END:VTIMEZONE
END:VCALENDAR