BEGIN:VCALENDAR
VERSION:2.0
PRODID:-//wp-events-plugin.com//7.0.5//EN
TZID:Europe/Berlin
X-WR-TIMEZONE:Europe/Berlin
BEGIN:VEVENT
UID:10210@die-dezentrale.net
DTSTART;TZID=Europe/Berlin:20240112T000000
DTEND;TZID=Europe/Berlin:20240112T000000
DTSTAMP:20231205T135821Z
URL:https://www.die-dezentrale.net/events/kara-delik-gudrone-girls/
SUMMARY:الثقب الأسود + Gudrone Girls
DESCRIPTION:الثقب الأسود (turkish/postpunk-vibes\, البرلينية) - Es ist endlich w
 ieder so weit. Was für ein Glück. Vor circa genau einem Jahr hat uns die
 se Berliner Kapelle schon einmal besucht und es war eine Wucht. Abwechslun
 gs- und effektreiche Saz Sound treffen auf kunterbuntes Songwriting und St
 immenvielfalt\, teilweise sogar in chorartigen Sequenzen. Alle drei Bandmi
 tglieder entzünden ihre eigenen Erfahrungen und Kennzeichen welche daraus
  einen wahnsinnigen Wirbel\, der einem schwarzen Loch gleicht\, entstehen 
 lassen.\nGestartet hat Kara Delik mit einem Tape namens Tamam mit denen si
 e letztes Mal bei uns waren. Mittlerweile hat sich viel getan und es ersch
 eint bald die vierte EP namens Singularities IV.\nAufjedenfall gilt festzu
 halten\, diese Band sprudelt vor Aktivität\, Tatendrang und Experimentier
 freude.\n\nhttps://youtu.be/8mvLaAawHCs?feature=shared\n \n Die Gudrone G
 irls (post-teroetischer Expeditionspunk aus Kassel) bringen bald ihr Album
  raus. Wahrscheinlich haben sie es dann auch da dabei. Falls ihr die schon
  mal gesehen habt\, könnt ihr auch nochmal kommen. Sind einige neue Songs
  im Gepäck.\n\nhttps://gudronegirls.bandcamp.com/album/live-im-subterrain
 \n \n Einlass ab 20 ساعة / تبدأ في 21 Uhr\n\nDas Konzert findet im Subte
 rrain des Sandershaus statt.\n\nFoto von Toni Petraschk
ATTACH;FMTTYPE=image/jpeg:https://www.die-dezentrale.net/wp-content/upload
 s/2023/12/Kara-Delik-von-Toni-Petraschk.jpg
CATEGORIES:konzert
LOCATION:Sandershaus | ساندر شتراسه 79\, Kassel\, 34123\, ألم
 انيا
GEO:51.31061;9.52756
X-APPLE-STRUCTURED-LOCATION;VALUE=URI;X-ADDRESS=Sandershäuser Straße 79\,
  Kassel\, 34123\, ألمانيا;X-APPLE-RADIUS=100;X-TITLE=Sandershaus:ge
 o:51.31061,9.52756
END:VEVENT
BEGIN:VTIMEZONE
TZID:Europe/Berlin
X-LIC-LOCATION:Europe/Berlin
BEGIN:STANDARD
DTSTART:20231029T020000
TZOFFSETFROM:+0200
TZOFFSETTO:+0100
TZNAME:CET
END:STANDARD
END:VTIMEZONE
END:VCALENDAR