BEGIN:VCALENDAR
VERSION:2.0
PRODID:-//wp-events-plugin.com//7.0.5//EN
TZID:Europe/Berlin
X-WR-TIMEZONE:Europe/Berlin
BEGIN:VEVENT
UID:8536@die-dezentrale.net
DTSTART;TZID=Europe/Berlin:20211107T110000
DTEND;TZID=Europe/Berlin:20211107T110000
DTSTAMP:20211022T084029Z
URL:https://www.die-dezentrale.net/events/kein-schlussstrich-3/
SUMMARY:Pas de ligne finale!
DESCRIPTION:Pas de ligne sous quoi?!\n\nPolitischer Stadtrundgang und
  Workshop\n\nIn Kooperation mit lokalen Akteur:innen wollen Die Kopiloten 
 e.V. partir à la recherche d'indices dans la ville: Was ist eigentlich dieser 
 NSU? Et qu'est-ce que cela a à voir avec Kassel et avec nous?\n\nOpernfoyer\, Eintri
 tt frei!\n\nZusätzliche Termine auf Anfrage. Contacter: mogge@diekopiloten.
 de / schrage@diekopiloten.de\n\n&nbsp\;
CATEGORIES:apprendre,workshop
END:VEVENT
BEGIN:VTIMEZONE
TZID:Europe/Berlin
X-LIC-LOCATION:Europe/Berlin
BEGIN:STANDARD
DTSTART:20211031T020000
TZOFFSETFROM:+0200
TZOFFSETTO:+0100
TZNAME:CET
END:STANDARD
END:VTIMEZONE
END:VCALENDAR