BEGIN:VCALENDAR
VERSION:2.0
PRODID:-//wp-events-plugin.com//7.0.5//EN
TZID:Europe/Berlin
X-WR-TIMEZONE:Europe/Berlin
BEGIN:VEVENT
UID:14694@die-dezentrale.net
DTSTART;TZID=Europe/Berlin:20260109T170000
DTEND;TZID=Europe/Berlin:20260109T193000
DTSTAMP:20260105T115532Z
URL:https://www.die-dezentrale.net/events/klamottentauschparty-3/
SUMMARY:Klamottentauschparty
DESCRIPTION:DIE Gelegenheit\,  Platz in deinem Kleiderschrank zu schaffen 
 und dich von Klamotten zu befreien\, die (nicht) mehr gefallen\, zu klein 
 oder zu groß sind oder einfach zu viel!\nKomm vorbei zum Schnacken und su
 ch dir was Passendes "Neues " aus!\nAlles\, was übrig bleibt  wird gespe
 ndet\n\nEintritt frei!
ATTACH;FMTTYPE=image/jpeg:https://www.die-dezentrale.net/wp-content/upload
 s/2026/01/klamottentausch-party-1-1.png
CATEGORIES:markt
LOCATION:Sandershaus | Sandershäuser Straße 79\, Kassel\, 34123\, Deutsch
 land
GEO:51.31061;9.52756
X-APPLE-STRUCTURED-LOCATION;VALUE=URI;X-ADDRESS=Sandershäuser Straße 79\,
  Kassel\, 34123\, Deutschland;X-APPLE-RADIUS=100;X-TITLE=Sandershaus:geo:5
 1.31061,9.52756
END:VEVENT
BEGIN:VTIMEZONE
TZID:Europe/Berlin
X-LIC-LOCATION:Europe/Berlin
BEGIN:STANDARD
DTSTART:20251026T020000
TZOFFSETFROM:+0200
TZOFFSETTO:+0100
TZNAME:CET
END:STANDARD
END:VTIMEZONE
END:VCALENDAR