BEGIN:VCALENDAR
VERSION:2.0
PRODID:-//wp-events-plugin.com//7.0.5//EN
TZID:Europe/Berlin
X-WR-TIMEZONE:Europe/Berlin
BEGIN:VEVENT
UID:10640@die-dezentrale.net
DTSTART;TZID=Europe/Berlin:20240306T193000
DTEND;TZID=Europe/Berlin:20240306T203000
DTSTAMP:20240301T140731Z
URL:https://www.die-dezentrale.net/events/klimastammtisch-3/
SUMMARY:Klimastammtisch
DESCRIPTION:Offenes Angebot für alle.\nUns beschäftigt insbesondere die F
 rage\, welche Aktivitäten wir auch über den Zukunftsladen hinaus in die 
 Hand nehmen werden und welche Strukturen dafür notwendig sind.\n\nDie Ver
 anstaltung findet im „Re:Wir Zukunftsladen Wilhelmshöhe“ statt. Die
 ser Ort entsteht in Kooperation von Bürger:innen mit der Universität Kas
 sel im Rahmen des Projektes „SDG+ Lab“.\nAlle Aktionen finden Sie unte
 r www.uni-kassel.de/go/rewir Der Eintritt ist frei.
ATTACH;FMTTYPE=image/jpeg:https://www.die-dezentrale.net/wp-content/upload
 s/2024/02/Screenshotneu-1.png
CATEGORIES:treffen
END:VEVENT
BEGIN:VTIMEZONE
TZID:Europe/Berlin
X-LIC-LOCATION:Europe/Berlin
BEGIN:STANDARD
DTSTART:20231029T020000
TZOFFSETFROM:+0200
TZOFFSETTO:+0100
TZNAME:CET
END:STANDARD
END:VTIMEZONE
END:VCALENDAR