BEGIN:VCALENDAR
VERSION:2.0
PRODID:-//wp-events-plugin.com//7.0.5//EN
TZID:Europe/Berlin
X-WR-TIMEZONE:Europe/Berlin
BEGIN:VEVENT
UID:14489@die-dezentrale.net
DTSTART;TZID=Europe/Berlin:20251218T180000
DTEND;TZID=Europe/Berlin:20251218T234500
DTSTAMP:20251201T142757Z
URL:https://www.die-dezentrale.net/events/kneipenabend-dj-spezial-8/
SUMMARY:Kneipenabend - DJ Spezial
DESCRIPTION:\n\n\nDieses Mal beim monatlichen DJ Spezial: „Klangmix mit A
 lles für Nix“ Schallplattenlauschpräsente mit Oliver Leuer. Parallel d
 azu könnt ihr aber natürlich trotzdem wie gehabt kickern\, Tischtennis s
 pielen oder auch einfach bei ein paar Getränken entspannt den Abend verbr
 ingen. 😊\n\nDie Bar ist von 18 - 24 Uhr geöffnet. DJs von 19-23 Uhr.\n
 \nEintritt frei!\n\nDu willst auch mal bei unserem Kneipenabend auflegen? 
 Cool! Schreibt uns eine Mail an soziokultur@sandershaus.de und wir klären
  alles Weitere.\n\n&nbsp\;\n\n\n
ATTACH;FMTTYPE=image/jpeg:https://www.die-dezentrale.net/wp-content/upload
 s/2025/08/169-Spiele-und-DJ-Special-Kneipe-HP-und-FB3.png
CATEGORIES:kneipe
LOCATION:Sandershaus | Sandershäuser Straße 79\, Kassel\, 34123\, Deutsch
 land
GEO:51.31061;9.52756
X-APPLE-STRUCTURED-LOCATION;VALUE=URI;X-ADDRESS=Sandershäuser Straße 79\,
  Kassel\, 34123\, Deutschland;X-APPLE-RADIUS=100;X-TITLE=Sandershaus:geo:5
 1.31061,9.52756
END:VEVENT
BEGIN:VTIMEZONE
TZID:Europe/Berlin
X-LIC-LOCATION:Europe/Berlin
BEGIN:STANDARD
DTSTART:20251026T020000
TZOFFSETFROM:+0200
TZOFFSETTO:+0100
TZNAME:CET
END:STANDARD
END:VTIMEZONE
END:VCALENDAR