BEGIN:VCALENDAR
VERSION:2.0
PRODID:-//wp-events-plugin.com//7.0.5//EN
TZID:Europe/Berlin
X-WR-TIMEZONE:Europe/Berlin
BEGIN:VEVENT
UID:14877@die-dezentrale.net
DTSTART;TZID=Europe/Berlin:20260312T203000
DTEND;TZID=Europe/Berlin:20260312T230000
DTSTAMP:20260202T122214Z
URL:https://www.die-dezentrale.net/events/konzert-dorr-mono-experimental-a
 mbient-electronic/
SUMMARY:Konzert: Dorr / Mono (Experimental / Ambient / Electronic)
DESCRIPTION:Dorr ist das Soloprojekt des britischen Musikers John Dorr\, we
 lcher in Nancy (Frankreich) lebt. Johns Musik hat ihre Wurzeln in der expe
 rimentellen Industrial / Ambient Musik. Lärmige Soundscapes werden mit zu
 gänglichen Gitarrenklängen und Johns tiefer Singstimme in wohlig kligend
 e Songs verwandelt\, die das Publikum mit hochemotionalen Wellen umspült.
  Abgerundet werden die Performances mit Videoinstallationen und einer sehr
  kreativen Art Gitarrensaiten zum Schwingen zu bringen. Mehr soll hier nic
 ht verraten werden. Als musikalische Wurzeln wären Bands wie The Velvet U
 nderground\, Sonic Youth und My Bloody Valentine zu nennen. Neben dem Albu
 m Ekho hat John Dorr auch den Soundtrack zur Netflix Produktion Between Th
 e Lights veröffentlicht. Wir freuen uns\, den sympathischen Musiker zum d
 ritten Mal in unserem Haus begrüßen zu dürfen.\n\nEkho von Dorr\n\n\n\n
 Mono sind in der Kasseler Subkultur keine Unbekannten. Chanti und Janis sp
 ielen dunkle elektronische Musik mit fein ausgefeilten Beats und eingängi
 gen Melodien. Zusätzllich kommen ein sechsaitiger Bass und zahlreiche Eff
 ektgeräte zum Einsatz. Das Ergebnis ist ein einzigartiger Stil\, welcher 
 Klangfetischisten und Liebhaber ausergewöhnlicher elektronischer Musik gl
 eichermaßen verzücken lässt. Chantis Texte beschäftigen sich mit den e
 rnsten Themen des Lebens. Persönliche Erlebnisse und das finden des eigen
 en Selbst werden thematisiert. Durch den beeindruckenden Gesangsstil werde
 n die textlichen Inhalte mit viel Gefühl und Seele vorgetragen. Mono ber
 ühren das Publikum auf besondere Weise. Sie bringen dich zum Tanzen und z
 um Staunen.\n\nThe great whale von mono\n\n\n\nDas Konzert findet im Subte
 rrain statt.\n\nEinlass ab 19:30 Uhr / Beginn um 20:30 Uhr\nEintritt: 9-14
 €\n\nFoto Dorr von Zippo Zipperman
ATTACH;FMTTYPE=image/jpeg:https://www.die-dezentrale.net/wp-content/upload
 s/2026/02/Dorr-und-Mono-Flyer-final-1-1.jpg
CATEGORIES:konzert
LOCATION:Sandershaus | Sandershäuser Straße 79\, Kassel\, 34123\, Deutsch
 land
GEO:51.31061;9.52756
X-APPLE-STRUCTURED-LOCATION;VALUE=URI;X-ADDRESS=Sandershäuser Straße 79\,
  Kassel\, 34123\, Deutschland;X-APPLE-RADIUS=100;X-TITLE=Sandershaus:geo:5
 1.31061,9.52756
END:VEVENT
BEGIN:VTIMEZONE
TZID:Europe/Berlin
X-LIC-LOCATION:Europe/Berlin
BEGIN:STANDARD
DTSTART:20251026T020000
TZOFFSETFROM:+0200
TZOFFSETTO:+0100
TZNAME:CET
END:STANDARD
END:VTIMEZONE
END:VCALENDAR