BEGIN:VCALENDAR
VERSION:2.0
PRODID:-//wp-events-plugin.com//7.0.5//EN
TZID:Europe/Berlin
X-WR-TIMEZONE:Europe/Berlin
BEGIN:VEVENT
UID:15237@die-dezentrale.net
DTSTART;TZID=Europe/Berlin:20260425T193000
DTEND;TZID=Europe/Berlin:20260425T193000
DTSTAMP:20260420T081458Z
URL:HTTPS://www.die-dezentrale.net/events/konzert-evo-lution-all-the-ashes
 -essen/
SUMMARY:音乐会: evo-lution  + All the Ashes (埃森)
DESCRIPTION:30 JAHRE EVO-LUTION – JUBILÄUMS-LIVESHOW\n\nSalzmann Factory
  &amp\; Club Sandershaus Kassel präsentieren:\n\nSeit 1996 steht EVO-LUTI
 ON für kompromisslose Electronic Body Music &amp\; Dark Electro. Harte So
 unds\, eine eindrucksvolle Licht- und Bühnenshow sowie die unverkennbare 
 Stimme von Sänger Klaus sind die Markenzeichen der Band. Wo könnte diese
 s besondere Jubiläum also besser gefeiert werden als in Kassel – der St
 adt\, in der alles begann?\n\nIm Sandershaus Kassel wird es düster\, laut
  und energiegeladen. EVO-LUTION feiern 30 Jahre Bandgeschichte mit einem b
 esonderen Live-Set – einem Querschnitt durch ihre Karriere: Von frühen 
 Klassikern wie „Society of Today“\, „Herr der Tränen“ und „Look
 ing Forward“ bis hin zu aktuellen Songs und neuen Produktionen.\n\nSpeci
 al Guest: ALL THE ASHES\n\nMit ihrem Szene-Clubhit „Schwarz macht schlan
 k“ sind ALL THE ASHES längst kein Geheimtipp mehr. Erwartet treibenden 
 80s-Synthpop\, kombiniert mit kraftvollem und düsteren Elektro – perfek
 t\, um euch schon vor dem Headliner auf Betriebstemperatur zu bringen.\n\n
 Special Guest – Bonus zum Jubiläum\n\nAls besonderes Highlight hat EVO-
 LUTION die Sängerin &amp\; Künstlerin Lis van den Akker eingeladen. Geme
 insam mit Klaus wird sie live auf der Bühne stehen. Lis war u. 一. als Bac
 kgroundsängerin für Die Krupps\, Frozen Plasma und viele weitere Acts t
 ätig.\n\nBegrüßungs-Special\n\nJeder Gast erhält beim Einlass ein Glas
  Sekt sowie eine kleine Überraschung.\n\nPersönliche Jubiläumstickets\n
 \nJeder Besucher erhält ein personalisiertes Ticket mit Namen – exklusi
 v für diesen Abend. Der Eintrittspreis ist ein Jubiläumspreis der Band. 
 Die Tickets sind streng limitiert und werden euch persönlich zugesendet.\
 n\nNicht verpassen: 30 Jahre EVO-LUTION – einmalig\, exklusiv und nur an
  diesem Abend! Seid dabei\, wenn 30 Jahre EVO-LUTION gebührend gefeiert w
 erden – laut\, düster und unvergesslich. 我们期待着您!\n\n[F
 oto: evo-lution © Rebeka Schwarz]\n\nBeginn: 19:30 Uhr\, 进口 18:30 Uh
 r\n\nEintritt Vorverkauf: 10 €\, 进入售票处: 14 €\n\nOrt: San
 dershaus\, Sandershäuser Straße 79\n\nVeranstalterin: Kulturfabrik Salzm
 ann\, Sandershaus\n\nKartenreservierung möglich unter www.kulturfabrik-ka
 ssel.de oder per E-Mail: info@kulturfabrik-kassel.de
ATTACH;FMTTYPE=image/jpeg:HTTPS://www.die-dezentrale.net/wp-content/upload
 s/2026/04/25-04-26-evo-lution-by-Rebeka-Schwarz.jpeg
CATEGORIES:konzert
LOCATION:Sandershaus | 桑德大街 79\, Kassel\, 34123\, 德国
GEO:51.31061;9.52756
X-APPLE-STRUCTURED-LOCATION;VALUE=URI;X-ADDRESS=Sandershäuser Straße 79\,
  Kassel\, 34123\, 德国;X-APPLE-RADIUS=100;X-TITLE=Sandershaus:geo:51.310
 61,9.52756
END:VEVENT
BEGIN:VTIMEZONE
TZID:Europe/Berlin
X-LIC-LOCATION:Europe/Berlin
BEGIN:DAYLIGHT
DTSTART:20260329T030000
TZOFFSETFROM:+0100
TZOFFSETTO:+0200
TZNAME:CEST
END:DAYLIGHT
END:VTIMEZONE
END:VCALENDAR