BEGIN:VCALENDAR
VERSION:2.0
PRODID:-//wp-events-plugin.com//7.0.5//EN
TZID:Europe/Berlin
X-WR-TIMEZONE:Europe/Berlin
BEGIN:VEVENT
UID:11567@die-dezentrale.net
DTSTART;TZID=Europe/Berlin:20240813T200000
DTEND;TZID=Europe/Berlin:20240813T223000
DTSTAMP:20240813T204426Z
URL:https://www.die-dezentrale.net/events/konzert-geigerzaehler-tonflation
 -2/
SUMMARY:concert: Geigerzähler &amp\; Tonflation
DESCRIPTION:GEIGERZÄHLER\nhttps://geigerzaehler.bandcamp.com/\n&amp\; TONF
 LATION\nhttps://soundcloud.com/tonflation\nDienstag / 13.08. / 20 Uhr\nim 
 einLaden / Williallé 121 / Kassel\n\nEintritt frei mit Hut\, without too.
ATTACH;FMTTYPE=image/jpeg:https://www.die-dezentrale.net/wp-content/upload
 s/2024/08/GGZ_Tonflation_Plakat_S-1.jpg
CATEGORIES:konzert
END:VEVENT
BEGIN:VTIMEZONE
TZID:Europe/Berlin
X-LIC-LOCATION:Europe/Berlin
BEGIN:DAYLIGHT
DTSTART:20240331T030000
TZOFFSETFROM:+0100
TZOFFSETTO:+0200
TZNAME:CEST
END:DAYLIGHT
END:VTIMEZONE
END:VCALENDAR