BEGIN:VCALENDAR
VERSION:2.0
PRODID:-//wp-events-plugin.com//7.0.5//EN
TZID:Europe/Berlin
X-WR-TIMEZONE:Europe/Berlin
BEGIN:VEVENT
UID:9928@die-dezentrale.net
DTSTART;TZID=Europe/Berlin:20230909T200000
DTEND;TZID=Europe/Berlin:20230909T210000
DTSTAMP:20230904T071903Z
URL:HTTPS://www.die-dezentrale.net/events/konzert-grillteller-fuer-2/
SUMMARY:音乐会烤盘 2
DESCRIPTION:Das Musikprogramm des Schwarzen Abbaus startet mit einer nicen 
 Crossover-Punk Combo aus der Region\, 烤盘用于 2. Wir haben sie un
 s schon anhören können und können sagen: 会很酷的! 不要错过它!
ATTACH;FMTTYPE=image/jpeg:HTTPS://www.die-dezentrale.net/wp-content/upload
 s/2023/09/musik.jpg
CATEGORIES:konzert
LOCATION:卡纳克 | Mombachstraße 45 A\, Kassel\, Hessen\, 34127\, 德国
GEO:51.326049;9.499532
X-APPLE-STRUCTURED-LOCATION;VALUE=URI;X-ADDRESS=Mombachstraße 45 A\, Kasse
 l\, Hessen\, 34127\, 德国;X-APPLE-RADIUS=100;X-TITLE=Karnak:geo:51.32604
 9,9.499532
END:VEVENT
BEGIN:VTIMEZONE
TZID:Europe/Berlin
X-LIC-LOCATION:Europe/Berlin
BEGIN:DAYLIGHT
DTSTART:20230326T030000
TZOFFSETFROM:+0100
TZOFFSETTO:+0200
TZNAME:CEST
END:DAYLIGHT
END:VTIMEZONE
END:VCALENDAR