BEGIN:VCALENDAR
VERSION:2.0
PRODID:-//wp-events-plugin.com//7.0.5//EN
TZID:Europe/Berlin
X-WR-TIMEZONE:Europe/Berlin
BEGIN:VEVENT
UID:6658@die-dezentrale.net
DTSTART;TZID=Europe/Berlin:20200213T200000
DTEND;TZID=Europe/Berlin:20200213T200000
DTSTAMP:20200208T103234Z
URL:https://www.die-dezentrale.net/events/konzert-hannover-calling/
SUMMARY:concert: Hannover Calling
DESCRIPTION:\nJazz\nKulturzentrum Schlachthof Kassel\, Mombach rue 12\, 
 34127 Kassel\n\n\n\n\n\n\nDas Sextett um den Hannoveraner Jazzprofessor He
 rbert Hellhund spielt zeitgenössischen europäischen Jazz - ohne die Tuge
 nden des amerikanischen Modern Jazz und dessen Fundament in den klassische
 n Stilen der 1950er und 1960er Jahre zu vernachlässigen.\n\nAbseits vom a
 ktuellen Mainstream-Einerlei verbinden HANNOVER CALLING ihr Repertoire aus
  originellen eigenen Kompositionen und die Professionalität aller sechs M
 usiker als Solisten und im Zusammenspiel zu einer originellen eigenen Ausd
 rucksweise und Handschrift.\nHerbert Hellhund - Trompete\, Flügelhorn\nBa
 rdo Henning – Klavier\nAndreas Henze – Kontrabass\nDetlef Landeck – 
 Posaune\nTimo Warnecke – Schlagzeug\nMatthias Schubert - Tenorsaxophon\n
 \n\n\nMehr Infos: http://www.jazzvereinkassel.de\n
CATEGORIES:konzert
LOCATION:Schlachthof (Kassel) | Mombachstraße 10-12\, Kassel
 \, Hessen\, 34127\, Allemagne
GEO:51.326831;9.503797
X-APPLE-STRUCTURED-LOCATION;VALUE=URI;X-ADDRESS=Mombachstraße 10-12\, Kass
 el\, Hessen\, 34127\, Allemagne;X-APPLE-RADIUS=100;X-TITLE=Kulturzentrum S
 chlachthof (Kassel):geo:51.326831,9.503797
END:VEVENT
BEGIN:VTIMEZONE
TZID:Europe/Berlin
X-LIC-LOCATION:Europe/Berlin
BEGIN:STANDARD
DTSTART:20191027T020000
TZOFFSETFROM:+0200
TZOFFSETTO:+0100
TZNAME:CET
END:STANDARD
END:VTIMEZONE
END:VCALENDAR