BEGIN:VCALENDAR
VERSION:2.0
PRODID:-//wp-events-plugin.com//7.0.5//EN
TZID:Europe/Berlin
X-WR-TIMEZONE:Europe/Berlin
BEGIN:VEVENT
UID:7849@die-dezentrale.net
DTSTART;TZID=Europe/Berlin:20201015T200000
DTEND;TZID=Europe/Berlin:20201015T200000
DTSTAMP:20200929T093340Z
URL:https://www.die-dezentrale.net/events/konzert-kantapper/
SUMMARY:حفلة موسيقية: Kantapper
DESCRIPTION:تشكل Kantapper لأول مرة 2011 für eine Performance au
 f dem MIBnight Jazzfestival in Bremen. Damals wurde\, gemäß dem bekannte
 n Märchen\, ein dicker\, fetter Pfannekuchen auf der Bühne gebacken und 
 in Bewegung gesetzt. Inzwischen hat die Band bestehend aus Thomas Maos\, S
 teffen Moddrow und Uli Sobotta auf den Spuren des Gebäcks einige Statione
 n entzückt zurückgelassen und dabei opernhafte Gesänge\, grotesken Rock
  und freie Eruptionen auf die Bühne gebracht.
ATTACH;FMTTYPE=image/jpeg:https://www.die-dezentrale.net/wp-content/upload
 s/2020/09/Kantapper-1-scaled.jpg
CATEGORIES:konzert
LOCATION:Sandershaus | Sandershäuser شارع. 79\, Kassel\, ألمانيا
GEO:51.310780;9.527780
X-APPLE-STRUCTURED-LOCATION;VALUE=URI;X-ADDRESS=Sandershäuser Str. 79\, Ka
 ssel\, ألمانيا;X-APPLE-RADIUS=100;X-TITLE=Sandershaus:geo:51.310780
 ,9.527780
END:VEVENT
BEGIN:VTIMEZONE
TZID:Europe/Berlin
X-LIC-LOCATION:Europe/Berlin
BEGIN:DAYLIGHT
DTSTART:20200329T030000
TZOFFSETFROM:+0100
TZOFFSETTO:+0200
TZNAME:CEST
END:DAYLIGHT
END:VTIMEZONE
END:VCALENDAR