BEGIN:VCALENDAR
VERSION:2.0
PRODID:-//wp-events-plugin.com//7.0.5//EN
TZID:Europe/Berlin
X-WR-TIMEZONE:Europe/Berlin
BEGIN:VEVENT
UID:14750@die-dezentrale.net
DTSTART;TZID=Europe/Berlin:20260313T200000
DTEND;TZID=Europe/Berlin:20260313T223000
DTSTAMP:20260205T204357Z
URL:https://www.die-dezentrale.net/events/konzert-matching-outfits-tba-ind
 iepop-indierock/
SUMMARY:Konzert: Matching Outfits + Tonflation (Indiepop / Indierock)
DESCRIPTION:Matching Outfits sind ein Trio von Wahlberlinerinnen\, deren sc
 hräge\, wehmütige Interpretation des Indie-Pop mit „einem Super-8-Film
  aus dem Familienboden“ verglichen wurde. Die Texte von Sängerin Linnea
  Mårtensson fangen die großen Verluste und kleinen Unannehmlichkeiten de
 s Lebens in herzzerreißenden\, manchmal urkomischen Details ein\, währen
 d sich liebliche Harmonien in dissonante Ausbrüche und mitreißende Refra
 ins verwandeln. Ihre Debütkassette „Band Made Out Of Sand“ erregte di
 e Aufmerksamkeit des Kultradiosenders WFMU sowie des Labels Bar/None (Yo L
 a Tengo\, The Feelies) aus New Jersey\, das die Band unter Vertrag nahm un
 d am 25. Juli 2025 ihr zweites Album „Ditch Me“ veröffentlichte. Die 
 Band trägt keine passenden Outfits\, außer wenn sie es doch tut.\n\nDitc
 h Me von Matching Outfits\n\n_____________________________________________
 _______________________________________________\n\nTONFLATION\nsortiert ge
 rn Töne. Und bringt sie durcheinander. Hat ein "Reparaturset" komponiert\
 , für Klavier und Ohren. Repariert damit behutsam am ramponierten Kapital
 ismus rum. Irgendwer hat das mal liebevoll Pianocrust genannt. Gibt auch p
 aar Parolen zu mieten\, um den Zuständen Paroli zu bieten. Wird von Allm
 ächtigorithmen (aus Versehen? \;-) mit Nils Frahm\, Hania Rani\, Eric Sat
 ie etc. verglichen.\n_____________________________________________________
 _______________________________________\n\nFoto von Martin Francis\n\nDas 
 Konzert findet in der Sandershaus - Bar statt.\nEinlass ab 19:30 Uhr / Beg
 inn um 20 Uhr\nEintritt: 10-15€
ATTACH;FMTTYPE=image/jpeg:https://www.die-dezentrale.net/wp-content/upload
 s/2026/01/Matching-Outfits-by-Martin-Francis-1.jpg
CATEGORIES:konzert
LOCATION:Sandershaus | Sandershäuser Straße 79\, Kassel\, 34123\, Deutsch
 land
GEO:51.31061;9.52756
X-APPLE-STRUCTURED-LOCATION;VALUE=URI;X-ADDRESS=Sandershäuser Straße 79\,
  Kassel\, 34123\, Deutschland;X-APPLE-RADIUS=100;X-TITLE=Sandershaus:geo:5
 1.31061,9.52756
END:VEVENT
BEGIN:VTIMEZONE
TZID:Europe/Berlin
X-LIC-LOCATION:Europe/Berlin
BEGIN:STANDARD
DTSTART:20251026T020000
TZOFFSETFROM:+0200
TZOFFSETTO:+0100
TZNAME:CET
END:STANDARD
END:VTIMEZONE
END:VCALENDAR