BEGIN:VCALENDAR
VERSION:2.0
PRODID:-//wp-events-plugin.com//7.0.5//EN
TZID:Europe/Berlin
X-WR-TIMEZONE:Europe/Berlin
BEGIN:VEVENT
UID:14880@die-dezentrale.net
DTSTART;TZID=Europe/Berlin:20260319T203000
DTEND;TZID=Europe/Berlin:20260319T230000
DTSTAMP:20260203T145223Z
URL:https://www.die-dezentrale.net/events/konzert-mittekill-drunk-at-your-
 wedding-elektro-chanson-electric-folk/
SUMMARY:Konzert: Mittekill / Drunk at Your Wedding (Elektro-Chanson / Elect
 ric Folk)
DESCRIPTION:Friedrich Greiling aka FreeDaRich aka Mittekill mischt die Club
 landschaft schon seit Anfang des Jahrtausends mit Techno-Blues\, Elektro-C
 hansons und Punk-House auf. Brachiale Eleganz\, kompromisslose Diversität
  und hypnotische Dynamik prägen seine Musik. Sie ist der fliegende Teppic
 h für seine rebellische Prosa\, mit der er die Zustände unserer Zeit ver
 zweifelt bis augenzwinkernd aufs Korn nimmt. Mittekill macht das Unbehagen
  irgendwo zwischen Pathos\, Pose und Posse und stets mit sattem Sound dem 
 Tanzboden gleich\, nur um uns im nächsten Moment mit einer Klavierballade
  ganz woanders abzuholen.\nDer Mittekill-Moment entsteht da\, wo sich in d
 ie Paranoia ein feiner Humor hinein fräst\, der mittels lustvoller Reimte
 chnik\, Wortschöpfung und -verdrehung den Stumpfsinn überstrahlt. Es kni
 stern Hingabe\, Fantasie und Stilbewusstsein. Handverlesene Elektronik und
  Dosen-Sounds werden so bearbeitet\, dass jedes Teilchen\, jeder Beat sein
 en Platz gefunden hat im Frequenz-Spektrum der Mittekill-Weltanschauung. S
 ubtil ausdifferenzierte Klangbeispiele werden konterkariert von scheppernd
 em Elektropunk\, der seinerseits ausgetrieben wird vom Chanson am Piano.\n
 Am Ende fügt sich alles zusammen zu einem Bild\, einem schillernden Gesam
 tding. Hören wir endlich auf\, unsere Zeit der Wirtschaft zu widmen. Bei 
 Mittekill ist die Minute mehr wert\nals 60 Sekunden.\n\nPhantom Club von M
 ittekill__________________________________________________________________
 _______________\n\nDrunk at Your Wedding\, benannt nach einem alten Bill C
 allahan-Song\, ist das Projekt der Berliner Singer/Songwriterin Nina Töll
 ner. Sie mag kratzbürstigen Indierock und traditionellen Folk und hat ein
 en Sinn für düstere Erzählungen und trockenen Humor. So schlagen die So
 ngs von DaYW überraschende Haken\, pendeln zwischen fragil und laut und b
 etten eingängige Melodien in ein Schattenspiel aus Moll. Das zweite DAYW-
 Album „I Have to Go Home“ (Bohemian Strawberry\, 2021) erntete freundl
 iche Worte von u.a. Spiegel Online\, Rolling Stone\, VISIONS und Kaput Mag
 azin. Der Nachfolger „Ghost Gear“ (2023/24) schert sich wenig um klass
 ische Songstrukturen. Stattdessen stößt er bis in Shoegaze- und Stoner R
 ock-Gefilde vor und fischt in menschlichen Untiefen oder den poetischen Ei
 genarten der englischen Sprache.\n\nGhost Gear von Drunk at Your Wedding\n
 __________________________________________________________________________
 _______\n\nDas Konzert findet im Subterrain statt.\n\nEinlass ab 20 Uhr / 
 Beginn um 20:30 Uhr\nEintritt (nur AK): 7-15€ (nach Selbsteinschätzung)
 \n\nFoto Mittekill von Phillip Zwanzig\nFoto Drunk at Your Wedding von Bri
 ce Bourdet
ATTACH;FMTTYPE=image/jpeg:https://www.die-dezentrale.net/wp-content/upload
 s/2026/02/mittekill-dayw-banner1.png
CATEGORIES:konzert
LOCATION:Sandershaus | Sandershäuser Straße 79\, Kassel\, 34123\, Deutsch
 land
GEO:51.31061;9.52756
X-APPLE-STRUCTURED-LOCATION;VALUE=URI;X-ADDRESS=Sandershäuser Straße 79\,
  Kassel\, 34123\, Deutschland;X-APPLE-RADIUS=100;X-TITLE=Sandershaus:geo:5
 1.31061,9.52756
END:VEVENT
BEGIN:VTIMEZONE
TZID:Europe/Berlin
X-LIC-LOCATION:Europe/Berlin
BEGIN:STANDARD
DTSTART:20251026T020000
TZOFFSETFROM:+0200
TZOFFSETTO:+0100
TZNAME:CET
END:STANDARD
END:VTIMEZONE
END:VCALENDAR