BEGIN:VCALENDAR
VERSION:2.0
PRODID:-//wp-events-plugin.com//7.0.5//EN
TZID:Europe/Berlin
X-WR-TIMEZONE:Europe/Berlin
BEGIN:VEVENT
UID:14892@die-dezentrale.net
DTSTART;TZID=Europe/Berlin:20260327T210000
DTEND;TZID=Europe/Berlin:20260327T210000
DTSTAMP:20260210T132008Z
URL:https://www.die-dezentrale.net/events/konzert-scheissediebullen-uschis
 -mutti-punk/
SUMMARY:concert: Putain de flics / La maman d&#039;Uschi (Punk)
DESCRIPTION:la 4 de la merde, les taureaux viennent avec leur allemand(michnichtv
 oll)espace punk. Avec maintenant 15 ans et 3 Alben auf dem Buckel lassen s
 ie sich zwar seltener sehen\, dafür aber dann mit um so mehr Herz auf der
  Zunge und Faust in der Luft. Also runter vom Sofa und gemeinsam in den Fr
 ühlingsanfang gepogt!\n\n________________________________________________
 ________________\n\n„[...] punk rock colérique en allemand [...] schrä
 ger Gesang\, y compris les tons ne frappent pas [...] Texte [...] umso mehr der 
 Hammer.“\nTRUST NR. 233/04 August 2025\n\nKurz nachdem die großartige S
 inger-Songwriterin Päpsy Schmidt mit DT zugunsten von Bob Dylan auf ihren
  Literaturnobelpreis verzichtet hatte\, lernte sie in der Pinneberger Fuß
 gängerzone die beiden musikalischen Hasardeure BumBum Schorni (Basse) und 
 Arne Konkarne (Tambours) bei Fluppe &amp\;Dosenbier kennen und nahm sie unter
  ihre Fittiche. Schnell war mit USCHIS MUTTI ein Bandprojekt geboren\, das
  sich nichts Geringeres als die Rettung des Klimas\, der Natur und der ges
 amten Menschheit zum Ziel gesetzt hat.\n\n________________________________
 ________________________________\n\nDas Konzert findet im Subterrain statt
 .\n\nEinlass ab 20 Uhr\nBeginn um 21 Uhr\nEintritt (seulement AK): 8-12€ (nach
  Selbsteinschätzung)
ATTACH;FMTTYPE=image/jpeg:https://www.die-dezentrale.net/wp-content/upload
 s/2026/02/IMG_20260205_183129_688.jpg
CATEGORIES:konzert
LOCATION:Sandershaus | Sander Straße 79\, Kassel\, 34123\, Allemag
 ne
GEO:51.31061;9.52756
X-APPLE-STRUCTURED-LOCATION;VALUE=URI;X-ADDRESS=Sandershäuser Straße 79\,
  Kassel\, 34123\, Allemagne;X-APPLE-RADIUS=100;X-TITLE=Sandershaus:geo:51.
 31061,9.52756
END:VEVENT
BEGIN:VTIMEZONE
TZID:Europe/Berlin
X-LIC-LOCATION:Europe/Berlin
BEGIN:STANDARD
DTSTART:20251026T020000
TZOFFSETFROM:+0200
TZOFFSETTO:+0100
TZNAME:CET
END:STANDARD
END:VTIMEZONE
END:VCALENDAR