BEGIN:VCALENDAR
VERSION:2.0
PRODID:-//wp-events-plugin.com//7.0.5//EN
TZID:Europe/Berlin
X-WR-TIMEZONE:Europe/Berlin
BEGIN:VEVENT
UID:7848@die-dezentrale.net
DTSTART;TZID=Europe/Berlin:20201002T200000
DTEND;TZID=Europe/Berlin:20201002T200000
DTSTAMP:20200929T093043Z
URL:https://www.die-dezentrale.net/events/konzert-smokin-sound-quintett/
SUMMARY:concert: Smokin’ Sound Quintett
DESCRIPTION:Die Jazzband aus dem Waldecker Land präsentiert ihre originell
 en Arrangements mit eigenwilligen Soli und individuellem Sound bereits zum
  zweiten Mal im Sandershaus. Mit teils eigenen Arrangements von Klassikern
  der 60er und 70er Jahre bringt das Smokin‘ Sound Quintett Stücke auf d
 ie Bühne\, qui sont connus non seulement des spécialistes du jazz. Inzwischen v
 ersuchen sich die Jungs auch bisweilen an Funky- und Jazzrocktiteln wie 
 „Poultry Guest“ von Les Hooper oder  Jaco Pastorius´ „The Chicken
 “.
ATTACH;FMTTYPE=image/jpeg:https://www.die-dezentrale.net/wp-content/upload
 s/2020/09/Smokin-Sound-Quintett-scaled.jpg
CATEGORIES:konzert
LOCATION:Sandershaus | Sandershäuser Str. 79\, Kassel\, Allemagne
GEO:51.310780;9.527780
X-APPLE-STRUCTURED-LOCATION;VALUE=URI;X-ADDRESS=Sandershäuser Str. 79\, Ka
 ssel\, Allemagne;X-APPLE-RADIUS=100;X-TITLE=Sandershaus:geo:51.310780,9.52
 7780
END:VEVENT
BEGIN:VTIMEZONE
TZID:Europe/Berlin
X-LIC-LOCATION:Europe/Berlin
BEGIN:DAYLIGHT
DTSTART:20200329T030000
TZOFFSETFROM:+0100
TZOFFSETTO:+0200
TZNAME:CEST
END:DAYLIGHT
END:VTIMEZONE
END:VCALENDAR