BEGIN:VCALENDAR
VERSION:2.0
PRODID:-//wp-events-plugin.com//7.0.5//EN
TZID:Europe/Berlin
X-WR-TIMEZONE:Europe/Berlin
BEGIN:VEVENT
UID:14942@die-dezentrale.net
DTSTART;TZID=Europe/Berlin:20260509T190000
DTEND;TZID=Europe/Berlin:20260509T190000
DTSTAMP:20260302T145048Z
URL:https://www.die-dezentrale.net/events/konzert-svavar-knutur-singer-son
 gwriter/
SUMMARY:concert: Svavar Knùtur (Singer/Songwriter)
DESCRIPTION:Wer einen Auftritt von Svavar Knùtur schon miterleben durfte\,
  will remember for a long time. Seine Auftritte sind eine emotionale
  Achterbahnfahrt zwischen zu Tränen gerührt bis vor Lachen weinend\, die
  einen in seinen Bann ziehen und nicht mehr so schnell wieder loslassen.\n
 \nDer isländische Singer/Songwriter und Entertainer Svavar Knútur ist ei
 n Musiker mit zahllosen Facetten. Er schafft es mit einer Leichtigkeit und
  überbordenden Sympathie\, jedes Publikum vom  ersten Moment an zu verza
 ubern und mitzureißen. Er präsentiert seine Songs auf unglaublich berüh
 rende Art und Weise und erzählt dazwischen die absurdesten Geschichten un
 d Witze\, seasoned with a good dose of dark Icelandic humor. 
 Svavar likes to describe himself as a public health troubadour: „I
  think I might be the broccoli of Singer-Songwriters\, not the sexiest of 
 the vegetables\, but still veeeery good for you!“ Der Isländer ist das\
 , what should be a perfect entertainer: Eine Persönlichkeit\, die ma
 n als unverfälscht wahrnimmt und die gleichzeitig über das eigene Leben 
 hinausgeht\, without it seemed fake. Svavar Knútur stellt das Dase
 in als normaler Mensch heraus\, wirft darauf jedoch ein anderes Licht\, bi
 etet andere Perspektiven. Er macht im sehr Kleinen das\, was Andere auf de
 n ganz großen Bühnen für ihr Publikum schaffen möchten. Wobei diese Gr
 oßen doch fast immer dabei scheitern\, weil es gar nicht funktionieren ka
 nn\, to give to normal people on a huge stage. Anders heru
 m verzaubert\, man muss es so nennen\, Svavar sein Publikum\, als wäre er
  einer der Größten.\n\nDem Schmerz der langen Winter\, sowie die Schlafl
 osigkeit der 24 Stunden scheinenden isländischen Sommersonne Ausdruck ver
 leihend\, hat sich Svavar in den letzten Jahren zu einem heiteren und auß
 ergewöhnlichen Musiker gemausert. Er erzählt mit „watteweicher\, nordi
 sch entrückter Folkmusik“ (Rolling Stone) vom harten aber nicht freudlo
 sen Leben der Menschen am rauen isländischen Westfjord. Brisbanes Rave Ma
 gazin schrieb ihm eine „Ohnmacht erregende Stimme“ zu und hob die „w
 undervolle Schlichtheit und ungefilterten Emotionen in seinen Songs“ her
 vor\n\nIm Frühjahr 2024 Ahoy appeared! Side B\, gemischt mit isländisch 
 und englisch gesungenen Songs\, womit er sein langjähriges Projekt abgesc
 hlossen hat\, da der Wunsch bestand einige Songs neu zu arrangieren wurde 
 daraus schnell ein Doppelalbum als Vinyl (such as 2 CD´s).\n\n_____________
 ___________________________________________\n\nDas Konzert findet im Rahme
 n der Kulturtage 2026 statt.\n\n__________________________________________
 ______________\n\nBeginn um 19 Uhr\nEintritt frei!\nDas Konzert findet im 
 Biergarten des Sandershaus statt.\n\nFoto von Sindri Swan
ATTACH;FMTTYPE=image/jpeg:https://www.die-dezentrale.net/wp-content/upload
 s/2026/03/Svavar-240405-003-®Sindri-Swan-scaled.jpg
CATEGORIES:konzert
LOCATION:Sandershaus | Sander Straße 79\, Kassel\, 34123\, Germany
GEO:51.31061;9.52756
X-APPLE-STRUCTURED-LOCATION;VALUE=URI;X-ADDRESS=Sandershäuser Straße 79\,
  Kassel\, 34123\, Germany;X-APPLE-RADIUS=100;X-TITLE=Sandershaus:geo:51.31
 061,9.52756
END:VEVENT
BEGIN:VTIMEZONE
TZID:Europe/Berlin
X-LIC-LOCATION:Europe/Berlin
BEGIN:DAYLIGHT
DTSTART:20260329T030000
TZOFFSETFROM:+0100
TZOFFSETTO:+0200
TZNAME:CEST
END:DAYLIGHT
END:VTIMEZONE
END:VCALENDAR