BEGIN:VCALENDAR
VERSION:2.0
PRODID:-//wp-events-plugin.com//7.0.5//EN
TZID:Europe/Berlin
X-WR-TIMEZONE:Europe/Berlin
BEGIN:VEVENT
UID:9193@die-dezentrale.net
DTSTART;TZID=Europe/Berlin:20230108T183000
DTEND;TZID=Europe/Berlin:20230108T183000
DTSTAMP:20221213T143322Z
URL:https://www.die-dezentrale.net/events/konzert-teresa-riemann-birgit-go
 ldbourne-subterrain-sandershaus-kassel/
SUMMARY:Teresa Riemann / Birgit Goldbourne
DESCRIPTION:Teresa Riemann bewegt sich in ihren verschiedenen Ausdrucksform
 en zwischen Chanson\, Rock n' Roll und atonaler neuer Musik\, verknüpft s
 ich widersprechende Formen und schafft neue Klänge. Sie liebt die bisweil
 en verstörenden Kontraste zwischen lieblichen Melodien und grausam realis
 tischen Texten\, ebenso wie den Gegensatz zwischen ihrem Solo-Piano Progra
 mm und dem noiselastigeren Schlagzeugspiel. Zweiteres dürfen wir an diese
 m Sonntagabend erleben.\n\nDas musikalische Interessespektrum von Birgit G
 oldbourne lässt sich weit ziehen\, von Rock\, R&amp\;B\, Rap\, Experiment
 al\, Free Jazz und freier Improvisation. Im Besonderen beschäftigt sie si
 ch hierbei mit Kommunikation\, Achtsamkeit und Risiko. Wir freuen uns Birg
 it Goldbourne neben ihren Projekten wie Tilla\, mit der sie schon mal bei 
 uns im Subterrain war\, solo begrüßen zu dürfen.\n\nEinlass ab 18:30 Uh
 r. Das Konzert beginnt um 19 Uhr statt und findet im Subterrain des Sander
 shaus statt.\n___________\nVeranstaltet vom Weltsubkulturerbe e.V. in Koop
 eration mit dem Sandershaus\n\nDie Veranstaltung findet im Rahmen von Kass
 elkultur im documenta‐Jahr 2022 en vez de. \n
ATTACH;FMTTYPE=image/jpeg:https://www.die-dezentrale.net/wp-content/upload
 s/2022/12/Konzert-8.1-NEU.png
CATEGORIES:CONCIERTO,performance
LOCATION:Sandershaus | Sander Straße 79\, Kassel\, 34123\, Alemani
 a
GEO:51.31061;9.52756
X-APPLE-STRUCTURED-LOCATION;VALUE=URI;X-ADDRESS=Sandershäuser Straße 79\,
  Kassel\, 34123\, Alemania;X-APPLE-RADIUS=100;X-TITLE=Sandershaus:geo:51.3
 1061,9.52756
END:VEVENT
BEGIN:VTIMEZONE
TZID:Europe/Berlin
X-LIC-LOCATION:Europe/Berlin
BEGIN:STANDARD
DTSTART:20221030T020000
TZOFFSETFROM:+0200
TZOFFSETTO:+0100
TZNAME:CET
END:STANDARD
END:VTIMEZONE
END:VCALENDAR