BEGIN:VCALENDAR
VERSION:2.0
PRODID:-//wp-events-plugin.com//7.0.5//EN
TZID:Europe/Berlin
X-WR-TIMEZONE:Europe/Berlin
BEGIN:VEVENT
UID:13992@die-dezentrale.net
DTSTART;TZID=Europe/Berlin:20250912T210000
DTEND;TZID=Europe/Berlin:20250912T210000
DTSTAMP:20250729T111622Z
URL:https://www.die-dezentrale.net/events/kraelfe-mono-electronic-noise-ro
 ck/
SUMMARY:Krälfe / Mono (Electronic / Noise Rock)
DESCRIPTION:"Gravity Sucks" heißt das dritte Album der Band Krälfe aus Be
 rlin. Ralf Küster (Bass und Gitarre) und Claire Caspar (Schlagzeug und Ge
 sang) zelebrieren auf ihren Shows energiegeladenen Noise Rock bei dem kein
  Fuß still stehen bleibt. Lärmige Gitarren lassen das Herz schneller sch
 lagen\, das treibende Schlagzeug drückt nach vorne. Und dann hebt der Fli
 eger auch schon ab und man vergisst für den Moment alle Sorgen des Alltag
 s. Immer höher und schneller\, dabei bloß nicht nach unten schauen - all
 es wird gut. Wenn wenig später die Wolkendecke durchbrochen ist erstrahlt
  die Welt im hellen Glanz der Sonne! Fans von Bands wie Sonic Youth\, die 
 Wipers oder Shellac kommen hier voll auf ihre Kosten. Dead Can Dance auf S
 peed\, Ennio Morricone auf Wolke Sieben oder Siouxsie Sue im Dauerlauf - y
 ou name it. Tanzschuhe einpacken\, vorbeikommen und abheben ist die Devise
  des Abends!\n\nhttps://kraelfe.bandcamp.com/album/gravity-sucks-album\n\n
 \nDie Kasseler Band Mono supportet die Crew im Flugtower mit treibenden El
 ectrobeats und wummernden Basslinien. Janis überwacht dabei die Technik u
 nd dreht alle Regler während Chanti dem Personal den Weg weist. Alles mus
 s gut vorbereitet sein damit der Große Wal abheben kann. Vielleicht werde
 n auch Raketen gezündet\, man wird es sehen. Das Debut Album der Band ist
  auf Bandcamp zu finden.\n\nhttps://monoks.bandcamp.com/album/the-great-wh
 ale\n\n\nEinlass ab 20 Uhr / Showtime um 21 Uhr\n\nEintritt (nur Abendkass
 e): 9 - 14 € (nach Selbsteinschätzung)\n\nDas Konzert findet im Subterr
 ain statt.\n\n\nDas Foto zeigt Ralf Küster &amp\; Cläre Caspar von Kräl
 fe. Es wurde von Boris Schöppner fotografiert.\n
ATTACH;FMTTYPE=image/jpeg:https://www.die-dezentrale.net/wp-content/upload
 s/2025/07/KRAELFE_2024_@boris_Schoeppner-fb-scaled.jpg
CATEGORIES:konzert
LOCATION:Sandershaus | Sandershäuser Straße 79\, Kassel\, 34123\, Deutsch
 land
GEO:51.31061;9.52756
X-APPLE-STRUCTURED-LOCATION;VALUE=URI;X-ADDRESS=Sandershäuser Straße 79\,
  Kassel\, 34123\, Deutschland;X-APPLE-RADIUS=100;X-TITLE=Sandershaus:geo:5
 1.31061,9.52756
END:VEVENT
BEGIN:VTIMEZONE
TZID:Europe/Berlin
X-LIC-LOCATION:Europe/Berlin
BEGIN:DAYLIGHT
DTSTART:20250330T030000
TZOFFSETFROM:+0100
TZOFFSETTO:+0200
TZNAME:CEST
END:DAYLIGHT
END:VTIMEZONE
END:VCALENDAR