BEGIN:VCALENDAR
VERSION:2.0
PRODID:-//wp-events-plugin.com//7.0.5//EN
TZID:Europe/Berlin
X-WR-TIMEZONE:Europe/Berlin
BEGIN:VEVENT
UID:13992@die-dezentrale.net
DTSTART;TZID=Europe/Berlin:20250912T210000
DTEND;TZID=Europe/Berlin:20250912T210000
DTSTAMP:20250729T111622Z
URL:HTTPS://www.die-dezentrale.net/events/kraelfe-mono-electronic-noise-ro
 ck/
SUMMARY:利爪 / 单核细胞增多症 (电子 / 噪音摇滚)
DESCRIPTION:"重力很糟糕" heißt das dritte Album der Band Krälfe aus Be
 rlin. 拉尔夫·库斯特 (低音和吉他) 和克莱尔·卡斯帕 (Schlagzeug und Ge
 sang) zelebrieren auf ihren Shows energiegeladenen Noise Rock bei dem kein
  Fuß still stehen bleibt. Lärmige Gitarren lassen das Herz schneller sch
 lagen\, 驱动鼓向前推进. Und dann hebt der Fli
 eger auch schon ab und man vergisst für den Moment alle Sorgen des Alltag
 s. Immer höher und schneller\, 只是别往下看 - all
 es wird gut. Wenn wenig später die Wolkendecke durchbrochen ist erstrahlt
  die Welt im hellen Glanz der Sonne! Fans von Bands wie Sonic Youth\, die 
 Wipers oder Shellac kommen hier voll auf ihre Kosten. Dead Can Dance auf S
 peed\, 埃尼奥·莫里康内 (Ennio Morricone) 的《云九》或苏西·苏 (Siouxsie Sue) 的耐力跑 - y
 ou name it. Tanzschuhe einpacken\, vorbeikommen und abheben ist die Devise
  des Abends!\n\nhttps://kraelfe.bandcamp.com/album/gravity-sucks-album\n\n
 \nDie Kasseler Band Mono supportet die Crew im Flugtower mit treibenden El
 ectrobeats und wummernden Basslinien. Janis überwacht dabei die Technik u
 nd dreht alle Regler während Chanti dem Personal den Weg weist. Alles mus
 s gut vorbereitet sein damit der Große Wal abheben kann. Vielleicht werde
 n auch Raketen gezündet\, 你会看到它. Das Debut Album der Band ist
  auf Bandcamp zu finden.\n\nhttps://monoks.bandcamp.com/album/the-great-wh
 ale\n\n\nEinlass ab 20 时钟 / 表演时间一 21 Uhr\n\nEintritt (nur Abendkass
 e): 9 - 14 € (自我评估)\n\nDas Konzert findet im Subterr
 ain statt.\n\n\nDas Foto zeigt Ralf Küster &amp\; Cläre Caspar von Kräl
 fe. Es wurde von Boris Schöppner fotografiert.\n
ATTACH;FMTTYPE=image/jpeg:HTTPS://www.die-dezentrale.net/wp-content/upload
 s/2025/07/KRAELFE_2024_@boris_Schoeppner-fb-scaled.jpg
CATEGORIES:konzert
LOCATION:Sandershaus | 桑德大街 79\, Kassel\, 34123\, 德国
GEO:51.31061;9.52756
X-APPLE-STRUCTURED-LOCATION;VALUE=URI;X-ADDRESS=Sandershäuser Straße 79\,
  Kassel\, 34123\, 德国;X-APPLE-RADIUS=100;X-TITLE=Sandershaus:geo:51.310
 61,9.52756
END:VEVENT
BEGIN:VTIMEZONE
TZID:Europe/Berlin
X-LIC-LOCATION:Europe/Berlin
BEGIN:DAYLIGHT
DTSTART:20250330T030000
TZOFFSETFROM:+0100
TZOFFSETTO:+0200
TZNAME:CEST
END:DAYLIGHT
END:VTIMEZONE
END:VCALENDAR