BEGIN:VCALENDAR
VERSION:2.0
PRODID:-//wp-events-plugin.com//7.0.5//EN
TZID:Europe/Berlin
X-WR-TIMEZONE:Europe/Berlin
BEGIN:VEVENT
UID:10250@die-dezentrale.net
DTSTART;TZID=Europe/Berlin:20231214T170000
DTEND;TZID=Europe/Berlin:20231214T180000
DTSTAMP:20231212T142949Z
URL:HTTPS://www.die-dezentrale.net/events/kundgebung-neues-asylrecht-ist-a
 lter-rassismus-refugees-welcome-statt-abschottungspolitik-2/
SUMMARY:团结: "Neues Asylrecht ist alter Rassismus! -  refugees welc
 ome statt Abschottungspolitik"
DESCRIPTION:Zur Zeit wird kein Thema so heiß diskutiert wie Migration. Dab
 ei hat sich die Regierung längst dem Kurs der Rechten angeschlossen: Migr
 ation wird als Problem gesehen und soll um jeden Preis begrenzt werden. Di
 e Debatte über Flucht und Asyl wird dabei weitestgehend faktenfrei gefüh
 rt. Dadurch werden Ängste und Rassismus geschürt und Migrant*innen zum S
 ündenbock für gesellschaftliche Probleme gemacht. Kurzerhand werden rech
 tsstaatliche und menschenrechtliche Minimalstandards für populistische Ü
 berschriften geopfert. \n \nWir sagen: 没有! und wenden uns mit entschie
 denem Nachdruck gegen den Versuch\, die Entrechtung von Menschen auf der F
 lucht weiter voranzutreiben. Das Problem hat viele Namen. Es heißt Populi
 smus\, es heißt Abschottung und Ausgrenzung.\n     \nAsyl ist ein Me
 nschenrecht und Migration war schon immer und ist auch heute menschliche N
 ormalität. Die Einhaltung von völker- und menschenrechtlichen Normen ist
  unverzichtbar! Anlässlich eines bundesweiten Aktionstags am 14.12. gehen
  wir gemeinsam auf die Straße\, um ein Zeichen zu setzen für ein Ende de
 r menschenrechtswidrigen Pushbacks und der Kriminalisierung von Geflüchte
 ten und ihren Unterstützer*innen. Wir fordern eine menschenwürdige Asyl-
  und  Migrationspolitik und eine offene Gesellschaft!\n\nAb 15:00 wird es
  einen Infostand geben\, um mit Menschen vor dem Rathaus bei einem Tee ins
  Gespräch zu kommen. 离开 17:00 gibt es dann eine Kundgebung vor dem Rathau
 s. Kommt zahlreich und bringt Freund*innen und Verbündete mit. Lasst uns 
 ein Zeichen setzen gegen den Rechtsruck in Politik und Gesellschaft!\n\nSo
 lidarity City Kassel\, Seebrücke Kassel\, meet up Kassel
ATTACH;FMTTYPE=image/jpeg:HTTPS://www.die-dezentrale.net/wp-content/upload
 s/2023/12/signal-2023-12-09-180400_002.jpeg
CATEGORIES:aktion
END:VEVENT
BEGIN:VTIMEZONE
TZID:Europe/Berlin
X-LIC-LOCATION:Europe/Berlin
BEGIN:STANDARD
DTSTART:20231029T020000
TZOFFSETFROM:+0200
TZOFFSETTO:+0100
TZNAME:CET
END:STANDARD
END:VTIMEZONE
END:VCALENDAR