BEGIN:VCALENDAR
VERSION:2.0
PRODID:-//wp-events-plugin.com//7.0.5//EN
TZID:Europe/Berlin
X-WR-TIMEZONE:Europe/Berlin
BEGIN:VEVENT
UID:8081@die-dezentrale.net
DTSTART;TZID=Europe/Berlin:20210128T150000
DTEND;TZID=Europe/Berlin:20210128T150000
DTSTAMP:20210128T120657Z
URL:https://www.die-dezentrale.net/events/kundgebung-solidaritaet-mit-den-
 betroffenen-rechten-terrors-kein-schlussstrich-bei-der-aufklaerung/
SUMMARY:Kundgebung: Solidarität mit den Betroffenen rechten Terrors – ke
 in Schlussstrich bei der Aufklärung
DESCRIPTION:Am 28.Januar 2021 endet der Gerichtsprozess gegen Stephan Ernst
  und Markus Hartmann wegen des Mordes an Herrn Dr. Walter Lübcke und des 
 rassistischen Mordversuches an Herrn Ahmed I. vor dem Oberlandesgericht in
  Frankfurt. Die juristische Auseinandersetzung findet damit einen ersten A
 bschluss. Wie auch immer die Urteile ausfallen werden: Wir stehen an diese
 m Tag solidarisch mit den Opfern und Betroffenen rechten Terrors und recht
 er Gewalt.\n\nViele Fragen sind in dem Prozess offen geblieben\, etwa nach
  dem im Hintergrund wirkenden neonazistischen Netzwerk in Nordhessen\, nac
 h der Rolle der Sicherheitsbehörden und der Frage\, ob dieser Mord und Mo
 rdversuch nicht verhinderbar gewesen wären. Deshalb gilt: auch nach dem G
 erichtsurteil kann es keinen Schlussstrich bei der Aufklärung geben.\n\nU
 m dieser Forderung Nachdruck zu verleihen\, findet\n\nam Donnerstag\, den 
 28.01.2021 \neine öffentliche Kundgebung auf der Rathaustreppe\, Kassel \
 nvon 15 bis 16 Uhr\n\nunter dem Motto „ Solidarität mit den Betroffenen
  rechten Terrors – kein Schlussstrich bei der Aufklärung“ statt. In k
 urzen Statements werden Vertreter/Innen der Kasseler Initiative Nachgefrag
 t\, der Initiative 6. April\, des DGB\, von Fridays for Future\, der VVN-B
 dA und ein Mitglied des Untersuchungsausschusses sprechen. Ein Vertreter d
 er Kirchen ist angefragt.\n\nKommt möglichst zahlreich und haltet Euch pa
 ndemiebedingt an die Abstandsregeln und das Tragen einer Schutzmaske.\n\nW
 eitere Informationen: http://bgr-kassel.de/solidaritaet-mit-den-betroffen
 en-rechten-terrors-kein-schlussstrich-bei-der-aufklaerung
CATEGORIES:aktion
END:VEVENT
BEGIN:VTIMEZONE
TZID:Europe/Berlin
X-LIC-LOCATION:Europe/Berlin
BEGIN:STANDARD
DTSTART:20201025T020000
TZOFFSETFROM:+0200
TZOFFSETTO:+0100
TZNAME:CET
END:STANDARD
END:VTIMEZONE
END:VCALENDAR