BEGIN:VCALENDAR
VERSION:2.0
PRODID:-//wp-events-plugin.com//7.0.5//EN
TZID:Europe/Berlin
X-WR-TIMEZONE:Europe/Berlin
BEGIN:VEVENT
UID:8808@die-dezentrale.net
DTSTART;TZID=Europe/Berlin:20220618T140000
DTEND;TZID=Europe/Berlin:20220618T160000
DTSTAMP:20220618T101753Z
URL:https://www.die-dezentrale.net/events/kundgebung-solidaritaet-mit-isra
 el-dem-antisemitismus-entgegentreten-stoppt-bds/
SUMMARY:Kundgebung Solidarität mit Israel – Dem Antisemitismus entgegent
 reten – Stoppt BDS
DESCRIPTION:Dem Israelboykott keine Bühne auf der mit Steuergeldern finanz
 ierten documenta!\nStoppt BDS! Solidarność z Izraelem - Dem Antisemitism
 us entgegentreten!\n\nDemonstration eines Bündnisses aus Bündnis gegen A
 ntisemitismus Kassel\, Bündnisses aus Bündnis gegen Antisemitismus Kiel\
 , Junges Forum DIG Kassel\, AG Antifa halle\, Thunder in Paradise
CATEGORIES:aktion
END:VEVENT
BEGIN:VTIMEZONE
TZID:Europe/Berlin
X-LIC-LOCATION:Europe/Berlin
BEGIN:DAYLIGHT
DTSTART:20220327T030000
TZOFFSETFROM:+0100
TZOFFSETTO:+0200
TZNAME:CEST
END:DAYLIGHT
END:VTIMEZONE
END:VCALENDAR