BEGIN:VCALENDAR
VERSION:2.0
PRODID:-//wp-events-plugin.com//7.0.5//EN
TZID:Europe/Berlin
X-WR-TIMEZONE:Europe/Berlin
BEGIN:VEVENT
UID:9086@die-dezentrale.net
DTSTART;TZID=Europe/Berlin:20221018T193000
DTEND;TZID=Europe/Berlin:20221018T230000
DTSTAMP:20221007T145343Z
URL:https://www.die-dezentrale.net/events/le-fly-das-pack/
SUMMARY:Le Fly & Das Pack
DESCRIPTION:LE FLY &amp\; PACZKA - „Podwójne uderzenie” na żywo!\n\npräsent
 iert von kingstar\, laut.de &amp\; kulturnews\n\nDer Herbst wird heiß! Di
 e Hamburger Urgesteine DAS PACK &amp\; LE FLY gehen gemeinsam auf „DOPPE
 LKLATSCHE“ Co-Headline Tour! Es werden rauschende Ballnächte zu erwarte
 n sein\, głośno dzikie i nieprawdopodobne. Ręka w rękę przez mosh pit? U
 nbedingt. Bo niesamowite! Fast zu schön\, prawdę mówiąc. Und dann haben au
 ch noch beide Bands ihre im Sommer 2022 erscheinende neue Platte im Gepäc
 k. Więc prawie idealne podwójne uderzenie! Nazwa jest i pozostaje programem
 . Die Live Empfehlung 2022.\n\nLe Fly: (26.08.22 / Album-Vö „La Vie\, o
 der was?„)\nLe Fly sind eine massive Live-Bombe und St. Paulis aufregend
 ste Musiker-Gang\, die belegt\, wie man mit jedem einzelnen Song das immer
  brutal heterogene Publikum zwischen HipHop-Veteran\, Rocker-Kid\, Rasta-Z
 opf und Indiemädchen kollektiv förmlich an die Wand nagelt. Ihre brodeln
 de Musik lässt letztlich nur eine zutreffende Bezeichnung zu: St. Pauli T
 anzmusik.\n\nDas Pack: (29.07.22 / Album-Vö „Die Kernseife der Medaille
 “)\nVier charmante Herren\, które łączą inteligencję z głośnością? J
 a! Gitarrist &amp\; Piosenkarz Pensen Paletti (Potwory Liedermaching / Bu
 mm-Gitarre) zerfleddert gemeinsam mit Zorro\, Benno &amp\; Albi die Brette
 r dieser Welt. Ein überaus einzigartiger Musikstil zwischen Rock\, Punk\,
  Metalowe i wpadające w ucho melodie pop.
CATEGORIES:konzert
LOCATION:szczęście | Ironforge 85\, Kassel\, Hessen\, 34127\, Germany
GEO:51.330645;9.499298
X-APPLE-STRUCTURED-LOCATION;VALUE=URI;X-ADDRESS=Eisenschmiede 85\, Kassel\,
  Hessen\, 34127\, Niemcy;X-APPLE-RADIUS=100;X-TITLE=Goldgrube:geo:51.3306
 45,9.499298
END:VEVENT
BEGIN:VTIMEZONE
TZID:Europe/Berlin
X-LIC-LOCATION:Europe/Berlin
BEGIN:DAYLIGHT
DTSTART:20220327T030000
TZOFFSETFROM:+0100
TZOFFSETTO:+0200
TZNAME:CEST
END:DAYLIGHT
END:VTIMEZONE
END:VCALENDAR