BEGIN:VCALENDAR
VERSION:2.0
PRODID:-//wp-events-plugin.com//7.0.5//EN
TZID:Europe/Berlin
X-WR-TIMEZONE:Europe/Berlin
BEGIN:VEVENT
UID:12397@die-dezentrale.net
DTSTART;TZID=Europe/Berlin:20241217T183000
DTEND;TZID=Europe/Berlin:20241217T200000
DTSTAMP:20241127T190527Z
URL:https://www.die-dezentrale.net/events/lesekreis-kritik-des-antisemitis
 mus-7-gojnormativitaet/
SUMMARY:Lesekreis: Críticas al antisemitismo #7 Gojnormativität
DESCRIPTION:Ein letztes Mal in diesem Jahr findet das Treffen unseres Lesek
 reises am Dienstag\, la 17.12.\, una 18:30 Reloj en Gutenbergstraße 9 s
 tatt. Wie immer gilt\, dass alle herzlich eingeladen sind\, vorbeizukommen
  und neu- oder wiedereinzusteigen.\nWir lesen dieses Mal die Kapitel 3 ("G
 ojnormativitätskritik") y capítulos 9 ("Raus aus der gojnormativen Komfor
 tzone. Por solidaridad y alianzas contra el antisemitismo") a
 us dem Buch "Gojnormatividad" von Judith Coffey und Vivien Laumann\, la 
 2021 im Verbrecher Verlag erschienen ist.\n\nWenn ihr Schwierigkeiten habt
 \, an die Texte zu kommen\, ponerse en contacto con nosotros (bvf@systemli.org). Falls 
 ihr einen Benutzer:innen-Ausweis der Universitätsbibliothek Kassel haben 
 solltet: Puedes acceder al libro electrónico a través de la biblioteca de la universidad..
ATTACH;FMTTYPE=image/jpeg:https://www.die-dezentrale.net/wp-content/upload
 s/2024/11/lesekreis-7.png
CATEGORIES:aprender,treffen
END:VEVENT
BEGIN:VTIMEZONE
TZID:Europe/Berlin
X-LIC-LOCATION:Europe/Berlin
BEGIN:STANDARD
DTSTART:20241027T020000
TZOFFSETFROM:+0200
TZOFFSETTO:+0100
TZNAME:CET
END:STANDARD
END:VTIMEZONE
END:VCALENDAR