BEGIN:VCALENDAR
VERSION:2.0
PRODID:-//wp-events-plugin.com//7.0.5//EN
TZID:Europe/Berlin
X-WR-TIMEZONE:Europe/Berlin
BEGIN:VEVENT
UID:10001@die-dezentrale.net
DTSTART;TZID=Europe/Berlin:20231013T200000
DTEND;TZID=Europe/Berlin:20231013T223000
DTSTAMP:20231013T092814Z
URL:https://www.die-dezentrale.net/events/lesen-fuer-bier-kassel/
SUMMARY:Czytaj na piwo | Kassel
DESCRIPTION:Hurra\, Hurra!\nLesen für Bier Kassel ist zurück aus der Somm
 erpause!\n\nLesen für Bier wurde ursprünglich von Lucas Fassnacht erdach
 t\, einfach schön.\nLesen für Bier ist eine Art Lesebühne. Das heißt\,
  czyta się publiczności. Und im Fall von Lesen für Bier nicht nu
 r das\, was sie wollen\, sondern auch WIE sie das vorgelesen kriegen wolle
 n. Publiczność przynosi ze sobą teksty: Von der Mahnung bis zur Bewertu
 ng\, Można uwzględnić wszystko, od profili randkowych po książki dla dzieci. Wir ziehen
  on Stage nach und nach Texte aus dieser Sammlung. Dann kann die Person\, 
 die den Text mitgebracht hat\, bestimmen\, wie Suse Bock-Springer oder Let
 icia Wahl diesen Text vorlesen sollen: Trauerrede\, Dauerwerbesendung\, Bu
 chstabierwettbewerb oder ganz anders?\nAbschließend entscheidet das Publi
 kum\, was besser war\; tekstu lub wykonania tekstu. Wenn der 
 Text gewinnt\, bekommt die*r Mitbringer*in ein (nach Wahl alkoholfreies) B
 ier\, wenn die Performance gewinnt\, dann bekommen Suse oder Leticia ein (
 alkoholfreies) Bier. FUN!\nEs ist kurzweilig\, dusselig\, lieb und lenkt p
 rima von der Welt(tm) z. \n\n\nWir freuen uns\, Euch mal wieder in Echt z
 u sehen! \n\nAuf einen Blick\nLesen für Bier\n05.05.23 | 20 Zegar | Mutter 
 Kassel!\n\n\nEintritt mit Text 2€\, ohne 4€! \n\nFAQ\nMuss ich selbst 
 lesen?\nNein\, nur Leticia\, Suse oder geladene Gäst*innen lesen vor.\n\n
 Kann ich ernste Texte mitbringen?\nKlar\, ale może ludzie się śmieją (ink
 l. uns) nad tym. Dotyczy to również Twoich własnych tekstów. Das ist nicht böse oder
  abwertend gemeint\, aber bei LfB kann Vieles passieren.\n\nLest Ihr *alle
 * Texte?\nWir lesen so viele\, jak wpasować się w wieczór. Manche Texte 
 lesen wir nicht (kompletny)\, weil sie vielleicht gruselig oder aber he
 tzerisch sind.\n\nMuss ich Alkohol trinken?\nNein\, auf gar keinen Fall. O
 b Du ein Bier mit oder ohne Alkohol bei einem eventuellen Sieg möchtest\,
  zależy wyłącznie od Ciebie. Aber es gibt Alkohol und dieser ist auch sichtb
 ar im Laufe des Abends.\n\nBarrieren\nDie Veranstaltung findet in deutsche
 r Lautsprache statt. Czasem czytane są także teksty w języku angielskim. Die 
 Kneipe „Mutter“ ist nicht für E-Rollis zugänglich. Am Eingang befind
 et sich eine Stufe. Der Eingang und die meisten Türen sind zwischen 70-90
 cm breit. Die Mutter hat Sitzplätze mit und ohne Armlehnen.\nDie Location
  ist ein Rauchlokal\, z 18 Jahren zugänglich &amp\; nie jest to pokój o niskim poziomie bodźców.
 \nEs gibt ein Konzept zum Umgang mit Übergriffigkeiten. Dazu gibt es Aush
 änge im Eingangsbereich und den Toiletten.\nDie Kneipe verfügt über kei
 n Blindenleitsystem und hat z.T. zablokowane ścieżki spacerowe. Die nächste Haltest
 elle ist der Halitplatz.
ATTACH;FMTTYPE=image/jpeg:https://www.die-dezentrale.net/wp-content/upload
 s/2023/09/23_lfb_10135.jpg
CATEGORIES:pub,czytanie,performance
LOCATION:matka | Bunsenstraße 15\, Kassel\, Hessen\, 34127\, Germany
GEO:51.328999;9.501843
X-APPLE-STRUCTURED-LOCATION;VALUE=URI;X-ADDRESS=Bunsenstraße 15\, Kassel\,
  Hessen\, 34127\, Niemcy;X-APPLE-RADIUS=100;X-TITLE=Mutter:geo:51.328999,
 9.501843
END:VEVENT
BEGIN:VTIMEZONE
TZID:Europe/Berlin
X-LIC-LOCATION:Europe/Berlin
BEGIN:DAYLIGHT
DTSTART:20230326T030000
TZOFFSETFROM:+0100
TZOFFSETTO:+0200
TZNAME:CEST
END:DAYLIGHT
END:VTIMEZONE
END:VCALENDAR