BEGIN:VCALENDAR
VERSION:2.0
PRODID:-//wp-events-plugin.com//7.0.5//EN
TZID:Europe/Berlin
X-WR-TIMEZONE:Europe/Berlin
BEGIN:VEVENT
UID:9167@die-dezentrale.net
DTSTART;TZID=Europe/Berlin:20221210T180000
DTEND;TZID=Europe/Berlin:20221210T203000
DTSTAMP:20221127T231358Z
URL:https://www.die-dezentrale.net/events/lesung-piss-on-patriarchy-2/
SUMMARY:czytanie: Piss on Patriarchy
DESCRIPTION:W styczniu 2020 wird öffentlich\, dass ein linker cis Mann übe
 r mehrere Jahre heimlich Videoaufnahmen in Dixi-Klos auf dem linken Festiv
 al Monis Rache anfertigte. Die Aufnahmen der von ihm als weiblich gelesene
 n Personen verkaufte er auf Pornoplattformen.\nZwei Jahre lang hat die fem
 inistische Gruppe mora die Reaktionen aus der linken Szene beobachtet. Aus
  der Perspektive linker FLINTA und aus eigener Betroffenheit dokumentieren
 \, kommentieren und analysieren die Autor*innen die daraus folgenden Frage
 n\, Emotionen\, Akcje i walki feministyczne. Dieses Buch archivier
 t im Sinne feministischer Geschichtsschreibung die Perspektiven der Autor:
 innen und anderer Betroffener\, um ihre Erfahrungen nicht in Vergessenheit
  geraten zu lassen.\n\nOrganisiert von: Oh Mann\, Ey!
ATTACH;FMTTYPE=image/jpeg:https://www.die-dezentrale.net/wp-content/upload
 s/2022/11/lesung2.png
CATEGORIES:lesung
LOCATION:Collective Kawiarnia spa | Sternstraße 20\, Kassel\, Hessen\, 34123\
 , Germany
GEO:51.312631;9.504719
X-APPLE-STRUCTURED-LOCATION;VALUE=URI;X-ADDRESS=Sternstraße 20\, Kassel\, 
 Hessen\, 34123\, Niemcy;X-APPLE-RADIUS=100;X-TITLE=Kollektivcafé Kurbad:
 geo:51.312631,9.504719
END:VEVENT
BEGIN:VTIMEZONE
TZID:Europe/Berlin
X-LIC-LOCATION:Europe/Berlin
BEGIN:STANDARD
DTSTART:20221030T020000
TZOFFSETFROM:+0200
TZOFFSETTO:+0100
TZNAME:CET
END:STANDARD
END:VTIMEZONE
END:VCALENDAR