BEGIN:VCALENDAR
VERSION:2.0
PRODID:-//wp-events-plugin.com//7.0.5//EN
TZID:Europe/Berlin
X-WR-TIMEZONE:Europe/Berlin
BEGIN:VEVENT
UID:6656@die-dezentrale.net
DTSTART;TZID=Europe/Berlin:20200211T200000
DTEND;TZID=Europe/Berlin:20200211T200000
DTSTAMP:20200208T102949Z
URL:https://www.die-dezentrale.net/events/lesung-tuesday-tales/
SUMMARY:Lesung: Tuesday Tales
DESCRIPTION:\n\nComic Lesung - Heute mit: Paula Bulling\nKulturzentrum Schl
 achthof Kassel\, Mombachstrasse 12\, 34127 Kassel\n\n\n\n\n\n\n\n\n\nDie T
 UESDAY TALES finden an einem Dienstag im Monat ab 20 Uhr statt. Mit der Le
 sereihe bieten wir Comiczeichner*innen und Illustrator*innen ein Forum\, u
 m aktuelle Arbeiten und verborgene Schätze einem interessierten Publikum 
 vorzustellen und mit diesem in einen Austausch zu treten. Neben bereits ve
 röffentlichten Werken kann auch Work-in-Progress präsentiert und zur Dis
 kussion gestellt werden. Alle Lesungen werden von Bild-Projektionen beglei
 tet und laden dazu ein\, mit audiovisuellen Präsentationsformen zu experi
 mentieren.\n\nPaula Bulling\, geboren 1986 in Berlin\, ist Comiczeicherin 
 und -autorin. Ihre Arbeiten sind vorwiegend recherchebasiert und bewegen s
 ich zwischen Reportage und grafischer Poesie. Ihr Debüt „Im Land der Fr
 ühaufsteher“ erschien 2012 im Berliner avant-Verlag. Zuletzt veröffent
 lichte sie den Band „Lichtpause“ beim Kasseler Verlag Rotopol und in K
 ollaboration mit Anne König bei Spector Books in Leipzig den Band „Bruc
 hlinien. Drei Episoden zum NSU“. Nebenher illustriert sie für Zeitungen
  und Magazine und übersetzt gelegentlich Comics aus dem Französischen. S
 eit 2019 ist sie Mitarbeiterin im Bereich Illustration an der Kunsthochsch
 ule Kassel.\n\n\n\n
CATEGORIES:lesung
LOCATION:Kulturzentrum Schlachthof (Kassel) | Mombachstraße 10-12\, Kassel
 \, Hessen\, 34127\, Deutschland
GEO:51.326831;9.503797
X-APPLE-STRUCTURED-LOCATION;VALUE=URI;X-ADDRESS=Mombachstraße 10-12\, Kass
 el\, Hessen\, 34127\, Deutschland;X-APPLE-RADIUS=100;X-TITLE=Kulturzentrum
  Schlachthof (Kassel):geo:51.326831,9.503797
END:VEVENT
BEGIN:VTIMEZONE
TZID:Europe/Berlin
X-LIC-LOCATION:Europe/Berlin
BEGIN:STANDARD
DTSTART:20191027T020000
TZOFFSETFROM:+0200
TZOFFSETTO:+0100
TZNAME:CET
END:STANDARD
END:VTIMEZONE
END:VCALENDAR