BEGIN:VCALENDAR
VERSION:2.0
PRODID:-//wp-events-plugin.com//7.0.5//EN
TZID:Europe/Berlin
X-WR-TIMEZONE:Europe/Berlin
BEGIN:VEVENT
UID:9289@die-dezentrale.net
DTSTART;TZID=Europe/Berlin:20230218T220000
DTEND;TZID=Europe/Berlin:20230218T220000
DTSTAMP:20230217T173304Z
URL:https://www.die-dezentrale.net/events/love-rave-one-charity-rave-von-i
 help/
SUMMARY:Love Rave One (Charity Rave von iHelp)
DESCRIPTION:Charity Rave von iHelp im Franz Ullrich
ATTACH;FMTTYPE=image/jpeg:https://www.die-dezentrale.net/wp-content/upload
 s/2023/02/photo_2023-02-15_10-37-20-e1676655148268.jpg
CATEGORIES:party
LOCATION:Franz Ulrich | Franz-Ulrich Ulica 19\, Kassel\, Hessen\, 34117\,
  Germany
GEO:51.318236;9.48412
X-APPLE-STRUCTURED-LOCATION;VALUE=URI;X-ADDRESS=Franz-Ulrich-Straße 19\, K
 assel\, Hessen\, 34117\, Niemcy;X-APPLE-RADIUS=100;X-TITLE=Franz Ulrich:g
 eo:51.318236,9.48412
END:VEVENT
BEGIN:VTIMEZONE
TZID:Europe/Berlin
X-LIC-LOCATION:Europe/Berlin
BEGIN:STANDARD
DTSTART:20221030T020000
TZOFFSETFROM:+0200
TZOFFSETTO:+0100
TZNAME:CET
END:STANDARD
END:VTIMEZONE
END:VCALENDAR