BEGIN:VCALENDAR
VERSION:2.0
PRODID:-//wp-events-plugin.com//7.0.5//EN
TZID:Europe/Berlin
X-WR-TIMEZONE:Europe/Berlin
BEGIN:VEVENT
UID:15231@die-dezentrale.net
DTSTART;TZID=Europe/Berlin:20260421T203000
DTEND;TZID=Europe/Berlin:20260421T220000
DTSTAMP:20260421T095141Z
URL:HTTPS://www.die-dezentrale.net/events/macht-doch-nicht-die-nacht-zum-t
 age-ein-stadtspaziergang-zum-thema-lichtverschmutzung/
SUMMARY:"Macht doch nicht die Nacht zum Tage!« - Ein Stadtspaziergang zum
  Thema Lichtverschmutzung
DESCRIPTION:Die Nacht zum Tage machen — das macht die Menschheit vor alle
 m in Städten mittels künstlichem Licht. Die Dunkelheit und ihre guten un
 d wichtigen Seiten gehen so immer mehr verloren. Daher laden die Nachtrett
 er Kassel in Kooperation mit dem Stadtrundgangster e.V. zu einem Erkundung
 sspaziergang vom Licht ins Dunkel und zurück in Kassels Innenstadt ein.\n
 \nDabei geht es um den Preis der ständigen Verfügbarkeit von Licht. Wo i
 st das rechte Maß? Was haben Licht und Sicherheit miteinander zu tun? Geh
 ören Licht und Fortschritt zusammen? Und welche Auswirkungen hat Licht au
 f die Tiere der Stadt? Im Rundgang wollen wir Sinneserfahrungen mit Wissen
  verbinden\, um Antworten auf die Frage zu finden\, wie viel Hell und wie 
 viel Dunkel wir alle benötigen. Dabei werden verschiedene Beleuchtungssit
 uationen und ihre Folgen vorgestellt.\n\nDer Rundgang startet am 21. апрель
  2026 один 20:30 Uhr am Rahmenbau neben der Documentahalle am Friedrichsplat
 z in 34121 Кассель. Der Rundgang ist kostenlos. Es werden Spenden für die 
 Nachtretter Kassel gesammelt. Eine Anmeldung ist nicht nötig.\n\nKontakt:
 \nStadtrundgangster e.V.\nhello@stadtrundgangster.de\nhttps://www.instagra
 m.com/stadtrundgangster_kassel\n\n&nbsp\;\n\n&nbsp\;\n\n&nbsp\;
ATTACH;FMTTYPE=image/jpeg:HTTPS://www.die-dezentrale.net/wp-content/upload
 s/2026/04/Digitalflyer_Rungang-1.jpg
CATEGORIES:учить,sonstiges
END:VEVENT
BEGIN:VTIMEZONE
TZID:Europe/Berlin
X-LIC-LOCATION:Europe/Berlin
BEGIN:DAYLIGHT
DTSTART:20260329T030000
TZOFFSETFROM:+0100
TZOFFSETTO:+0200
TZNAME:CEST
END:DAYLIGHT
END:VTIMEZONE
END:VCALENDAR