BEGIN:VCALENDAR
VERSION:2.0
PRODID:-//wp-events-plugin.com//7.0.5//EN
TZID:Europe/Berlin
X-WR-TIMEZONE:Europe/Berlin
BEGIN:VEVENT
UID:11874@die-dezentrale.net
DTSTART;TZID=Europe/Berlin:20241012T200000
DTEND;TZID=Europe/Berlin:20241012T200000
DTSTAMP:20240926T113759Z
URL:https://www.die-dezentrale.net/events/marilyn-harvest-godots/
SUMMARY:مارلين الحصاد +  الدعم: جودوتس (هانوفر)
DESCRIPTION:\n\nMARILYN HARVEST: Die spannendste Newcomerband Kassels\, MAR
 ILYN HARVEST\, macht einen flächigen Indiepop/ Dreampop-Mix mit stellenwe
 iser Verneigung vor dem Chanson. Die 20-jährige Sängerin Nele hinterläs
 st seit Jahren in verschiedenen Konstellationen ihre Fußspuren in der Mus
 ikszene\, بالإضافة إلى الموسيقي الشامل لوكا هيتلينج. Nun tun sie das gemei
 nsam mit ihrem neuen Projekt MARYLIN HARVEST und vereinen Melancholie und 
 Weltschmerz mit einem beeindruckenden Ausdruck und einer Ausstrahlung sond
 ergleichen.\n\nDie Songs sind direkte und unverklausulierte Transkription 
 von Gefühlen direkt aus dem Herzen\, die musikalisch einen zuweilen vertr
 äumten\, ولكن في بعض الأحيان تشكل أيضًا سجادة صوتية غاضبة. Die eigenwilli
 ge\, يتناسب صوتها الدخاني تمامًا مع مؤلفاتها. Diese 
 erinnern an eine Mischung aus Patty Smith und Lana Del Rey mit Einschläge
 n von Künstler*innen\, مثل كوكتو توينز أو إتنا. MARILYN HARVEST füg
 en sich nahtlos in diese Reihe ein.\n\nThematisch geht es Frontfrau Nele v
 or allem darum\, بين- und Grautöne offenzulegen und vor allem zu nor
 malisieren. Durch ihre Texte sollen Zwischenräume zu normalen Räumen wer
 den\, so die Sängerin und Gitarristin über ihre hochgesteckten\, gesells
 chaftlichen Ziele. Es gibt kein Anderssein\, إذا كان كل شيء طبيعيا. Und da
 sselbe schafft eben auch das musikalische Mastermind Luca in den Soundbild
 ern. أولاً 2022 starteten die beiden das Projekt\, vor allem\, weil sie ber
 eits vorher Fans voneinander waren. Von Anfang an gab es ein blindes musik
 alisches Verständnis füreinander. Keine Aushandlungsprozesse\, صوتيا
 \, wie optisch unique und aus einem Guss.\n\nDas zweite Konzert des Duos w
 ar direkt beim Kassler Kulturzelt vor 400 اشخاص. Es folgten Supportshow
 s\, الظهور في مهرجان Open Flair والإقامات في الاستوديو. Dabei ist ei
 n Erstlingswerk entstanden\, das außergewöhnlich ausgeklügelt und viels
 chichtig ist. Ein Debut\, was diesem Namen bereits vor Release schon entwa
 chsen ist.\n\nGODOTS: Es wird wieder laut und wütend\, es geht um Angst &
 amp\; Frust und Spaß &amp\; الحب. Nach dem Release ihres zweiten Albums 
 zieht es die GODOTS aus Hannover wieder auf die Bühne. Ihr Debütalbum It
 's Gonna Be OK erschien 2022. Jetzt legen sie mit Where Do We Start? بعد.
 \n\nDie GODOTS spielen für eine bessere Zukunft\, für den Frieden und di
 e Liebe. Doch halten sie dabei ihre Wut über die aktuellen Umstände nich
 t zurück. Präzise prangern sie gesellschaftliche Probleme wie Wohnungslo
 sigkeit\, Klimapolitik\, النظام الاقتصادي والعزلة. Aber a
 uch die schönen Geschichten über gemeinsame Strandnächte oder die Gedan
 ken an einen geglückten Bankraub finden ihren Platz im breiten Repertoire
  der fünfköpfigen Band. بعد كل شيء، ليس كل شيء سيئا. Und doch 
 schwebt über allem die Frage: من أين نبدأ? من أين نبدأ؟?\n\nDie
  Vielfältigkeit der Themen\, mit denen sich das neue Album auseinanderset
 zt\, ينعكس أيضًا في الصوت. Neben “Faded”\, „Simple Thin
 gs“ und „Kingfisher“ als kraftvolle Rocksong stimmen “When You Sto
 p Trying” und „Don’t Wake Me Up“ einen ruhigeren\, melancholischer
 en Ton an. Letzterer wird als Feature von Freund und Komponist Jarle Kies
 é am Klavier begleitet. Hinzu kommen zwei weitere Features mit dem Bläse
 r-Arrangement von Wisecräcker in „Night On Malta“ sowie einer Gesange
 inlage von DUCS-Frontmann Christian Kretzschmar in „Waves“. Mit dem St
 onergewitter „Dirt // Germany 2099“ zeigen die GODOTS\, dass sie den W
 unsch nach fehlenden Grenzen auch in ihrer Musik umsetzen.\n\n\n\n\n 	Begi
 nn: 20 Uhr\, مدخل 19 Uhr\n 	Eintritt: 15 Euro\n 	Veranstaltungsort: Spi
 elstätte der Kulturfabrik Salzmann am Kupferhammer\, ليبزيغر شتراسه 40
 7\, 34123 Kassel\n 	ÖPNV: نوع من القطارات 4 + 8\, قف "صباحا كوبفرهامر"\n 	R
 eservierung möglich unter www.kulturfabrik-kassel.de oder per E-Mail: inf
 o@kulturfabrik-kassel.de\n
CATEGORIES:konzert
LOCATION:Kulturfabrik بحسب سالزمان (على المطرقة النحاسية) | ليبزيغر شتراسه 407\, 
 Kassel\, Hessen\, 34123\, ألمانيا
GEO:51.294032;9.557798
X-APPLE-STRUCTURED-LOCATION;VALUE=URI;X-ADDRESS=Leipziger Straße 407\, Kas
 sel\, Hessen\, 34123\, ألمانيا;X-APPLE-RADIUS=100;X-TITLE=Kulturfab
 rik Salzmann (على المطرقة النحاسية):geo:51.294032,9.557798
END:VEVENT
BEGIN:VTIMEZONE
TZID:Europe/Berlin
X-LIC-LOCATION:Europe/Berlin
BEGIN:DAYLIGHT
DTSTART:20240331T030000
TZOFFSETFROM:+0100
TZOFFSETTO:+0200
TZNAME:CEST
END:DAYLIGHT
END:VTIMEZONE
END:VCALENDAR