BEGIN:VCALENDAR
VERSION:2.0
PRODID:-//wp-events-plugin.com//7.0.5//EN
TZID:Europe/Berlin
X-WR-TIMEZONE:Europe/Berlin
BEGIN:VEVENT
UID:11285@die-dezentrale.net
DTSTART;TZID=Europe/Berlin:20240706T000000
DTEND;TZID=Europe/Berlin:20240706T200000
DTSTAMP:20240621T100518Z
URL:https://www.die-dezentrale.net/events/mark-prang-band-h2r-project/
SUMMARY:Mark Prang Band + H2R Project
DESCRIPTION:\n\n𝗠𝗮𝗿𝗸 𝗣𝗿𝗮𝗻𝗴 𝗕𝗮𝗻𝗱: Die
  Mark Prang Band ist seit fast 20 Jahren fester Bestandteil der Musikszene
  Nordhessens. 2005 von Sänger und Gitarrist Mark Prang gegründet\, spiel
 ten sie bereits zahlreiche Konzerte im Norden Hessens und darüber hinaus.
  Bei ihren Konzerten präsentieren sie klassischen Rock mit Songs von welt
 weiter Bekanntheit sowie Deutschrock und Songs aus der Feder von Prang. Er
 st im Jahr 2023 gingen die Musiker ins Studio\, um ihr neues Album "Unbesc
 hwert lässig naiv" aufzunehmen\, welches im Januar 2024 yayınlanan. D
 ie Musiker um Mark Prang nehmen auf ihren Konzerten das Publikum bei der H
 and und es geht auf eine musikalische Reise! Die aktuelle Besetzung: Mark 
 Prang – Gesang und Gitarre\, Larry Rosscoe – Schlagzeug\, Jörg Echt B
 uschbeck – Bass und Vocals\n\n𝗛𝟮𝗥 𝗣𝗿𝗼𝗷𝗲𝗰𝘁:
  Das H2R Project ist ein erfahrenes Trio aus dem Raum Kassel/ Nordhessen m
 it einem musikalischen Spektrum\, das Cover-Songs der 50er- bis 70er-Jahre
  umfasst. Örneğin: Chuck Berry\, Cream\, Jimmi Hendrix\, Elvis Presle
 y\, Bruce Springsteen\, Rolling Stones\, CCR\, Eric Clapton\, Stevie Ray V
 aughan\, ZZ-Top… Die Songs werden oldschool und rockig präsentiert. Dab
 ei liegt der Fokus weniger auf Authentizität\, sondern im Vordergrund ste
 ht die Freude am geselligen Musizieren und Jammen.\n\n\n\n\n 	Beginn: 20 U
 hr\, giriş 19 Uhr\n 	Eintritt: 12 Euro\n 	Veranstaltungsort: Spielstätt
 e der Kulturfabrik Salzmann am Kupferhammer\, Leipziger Strasse 407\, 3412
 3 Kassel\n 	ÖPNV: Tram 4 + 8\, durmak "Am Kupferhammer"\n 	Reservier
 ung möglich unter www.kulturfabrik-kassel.de oder per E-Mail: info@kultur
 fabrik-kassel.de\n\nFoto links: Mark Prang Bandı © Mark Prang Bandı // Foto
  rechts: H2R Project © Anja Papke
CATEGORIES:konzert
LOCATION:Kulturfabrik Salzmann (bakır çekicin üzerinde) | Leipziger Strasse 407\, 
 Kassel\, Hessen\, 34123\, Almanya
GEO:51.294032;9.557798
X-APPLE-STRUCTURED-LOCATION;VALUE=URI;X-ADDRESS=Leipziger Straße 407\, Kas
 sel\, Hessen\, 34123\, Almanya;X-APPLE-RADIUS=100;X-TITLE=Kulturfabrik Sal
 zmann (bakır çekicin üzerinde):geo:51.294032,9.557798
END:VEVENT
BEGIN:VTIMEZONE
TZID:Europe/Berlin
X-LIC-LOCATION:Europe/Berlin
BEGIN:DAYLIGHT
DTSTART:20240331T030000
TZOFFSETFROM:+0100
TZOFFSETTO:+0200
TZNAME:CEST
END:DAYLIGHT
END:VTIMEZONE
END:VCALENDAR